BEGIN:VCALENDAR
VERSION:2.0
PRODID:-//DaniReef - Portale dedicato a Acquario Marino e Dolce - ECPv6.15.20//NONSGML v1.0//EN
CALSCALE:GREGORIAN
METHOD:PUBLISH
X-ORIGINAL-URL:https://www.danireef.com
X-WR-CALDESC:Eventi per DaniReef - Portale dedicato a Acquario Marino e Dolce
REFRESH-INTERVAL;VALUE=DURATION:PT1H
X-Robots-Tag:noindex
X-PUBLISHED-TTL:PT1H
BEGIN:VTIMEZONE
TZID:Europe/Paris
BEGIN:DAYLIGHT
TZOFFSETFROM:+0100
TZOFFSETTO:+0200
TZNAME:CEST
DTSTART:20160327T010000
END:DAYLIGHT
BEGIN:STANDARD
TZOFFSETFROM:+0200
TZOFFSETTO:+0100
TZNAME:CET
DTSTART:20161030T010000
END:STANDARD
BEGIN:DAYLIGHT
TZOFFSETFROM:+0100
TZOFFSETTO:+0200
TZNAME:CEST
DTSTART:20170326T010000
END:DAYLIGHT
BEGIN:STANDARD
TZOFFSETFROM:+0200
TZOFFSETTO:+0100
TZNAME:CET
DTSTART:20171029T010000
END:STANDARD
BEGIN:DAYLIGHT
TZOFFSETFROM:+0100
TZOFFSETTO:+0200
TZNAME:CEST
DTSTART:20180325T010000
END:DAYLIGHT
BEGIN:STANDARD
TZOFFSETFROM:+0200
TZOFFSETTO:+0100
TZNAME:CET
DTSTART:20181028T010000
END:STANDARD
BEGIN:DAYLIGHT
TZOFFSETFROM:+0100
TZOFFSETTO:+0200
TZNAME:CEST
DTSTART:20190331T010000
END:DAYLIGHT
BEGIN:STANDARD
TZOFFSETFROM:+0200
TZOFFSETTO:+0100
TZNAME:CET
DTSTART:20191027T010000
END:STANDARD
BEGIN:DAYLIGHT
TZOFFSETFROM:+0100
TZOFFSETTO:+0200
TZNAME:CEST
DTSTART:20200329T010000
END:DAYLIGHT
BEGIN:STANDARD
TZOFFSETFROM:+0200
TZOFFSETTO:+0100
TZNAME:CET
DTSTART:20201025T010000
END:STANDARD
BEGIN:DAYLIGHT
TZOFFSETFROM:+0100
TZOFFSETTO:+0200
TZNAME:CEST
DTSTART:20210328T010000
END:DAYLIGHT
BEGIN:STANDARD
TZOFFSETFROM:+0200
TZOFFSETTO:+0100
TZNAME:CET
DTSTART:20211031T010000
END:STANDARD
END:VTIMEZONE
BEGIN:VEVENT
DTSTART;TZID=Europe/Paris:20200207T200000
DTEND;TZID=Europe/Paris:20200207T230000
DTSTAMP:20260420T221448
CREATED:20200203T141332Z
LAST-MODIFIED:20200203T141332Z
UID:43446-1581105600-1581116400@www.danireef.com
SUMMARY:MagnaRomagna 54\, 7 febbraio\, Rimini
DESCRIPTION:La cena degli acquariofili della Romagna torna con il MagnaRomagna n.54. Ovviamente siete tutti invitati a partecipare. Di qualunque gruppo facebook siate partecipanti! Che siate acquariofili dolci o marini\, che siate per il Berlinese o per il DSB: siete tutti invitati! \nTroppo tempo è passato dall’ultima cena che abbiamo fatto\, ed era proprio febbraio dello scorso anno. Evento di cui fa parte la fotografia di apertura. Così dopo pressanti richieste da parte degli amici abbiamo deciso di fissare un nuovo importante appuntamento. Il 54esimo MagnaRomagna “Pizza & Acquari” si terrà il prossimo venerdì 8 febbraio presso il ristorante Bastian Contrario. Noto ristorante riminese dove si possono mangiare dei superlativi fagioli con le cotiche… oltre a delle buonissime tagliatelle romagnole. \nQui di seguito vi lascio il link del locale Bastian Contrario ed a seguire quello che ne pensano i frequentatori del noto portale TripAdvisor: Ristorante Bastian Contrario – il mangiare di romagna. \nIl momento è ovviamente propizio per parlare di acquari\, e delle prossime manifestazioni acquariofile\, come il prossimo Interzoo\, ma anche del PetsFestival\, perché\, come sapete\, per potersi muovere è necessario programmarsi per tempo. \nPer questa volta cambieremo ancora ristorante e tipologia di cena. Come anticipato sopra torneremo alle tradizioni culinarie romagnole\, un motivo in più per non mancare! Non mancate di lasciare la vostra intenzione di partecipare per poterci permettere di prenotare il giusto numero di coperti.  \nL’incontro è fissato a partire dalle ore 20:00\, per un aperitivo assieme. Per ritardi o richieste particolari basta contattarmi per mettersi d’accordo per piccole o grandi variazioni! \nCome sempre potete leggere nella pagina dedicata al MagnaRomagna tutte le statistiche di questa simpatica iniziativa.
URL:https://www.danireef.com/event/magnaromagna-54-7-febbraio-rimini/
LOCATION:Ristorante Bastian Contrario\, Rimini\, Ristorante Bastian Contrario Rimini
CATEGORIES:Incontri
ATTACH;FMTTYPE=image/jpeg:https://www.danireef.com/wp-content/uploads/2019/02/201902-Federico-Lavezzi-gianluca-favata-giorgio-ricci-jonathan-betti-Luiss-Gomez-magnaromagna-Mario-Mondello-simone-baglioni-simone-castagnoli-29-Copyright-by-DaniReef.jpg
ORGANIZER;CN="DaniReef":MAILTO:info@danireef.com
END:VEVENT
BEGIN:VEVENT
DTSTART;TZID=Europe/Paris:20190208T200000
DTEND;TZID=Europe/Paris:20190208T233000
DTSTAMP:20260420T221448
CREATED:20190121T173020Z
LAST-MODIFIED:20190121T173020Z
UID:39124-1549656000-1549668600@www.danireef.com
SUMMARY:MagnaRomagna n. 53 a Rimini - cena con acquario
DESCRIPTION:Il Magnaromagna è una iniziativa nata dalla voglia di incontrarsi e di condividere le proprie esperienze in ambito acquariofilo. \nIl tutto è cominciato a novembre del 2007 e da allora è stato un continuo di cene ed uscite goliardiche\, oltre che un bellissimo panorama di acquari marini marchigiano-romagnoli\, e tante uscite assieme come le varie fiere di Norimberga\, gli Open Day\, Zoomark\, PetsFestival e tanto tanto altro. \nIl gruppo è aperto a tutti\, e ci aspettiamo la presenza anche di qualche esponente del mondo degli acquari dolci… fino ad ora infatti siamo stati nella maggior parte marinofili\, ma abbiamo avuto la presenza di negozianti e di rappresentanti di ditte di materiale acquariofilo\, insomma molto del mondo variegato che ruota attorno all’acquariofilia. \nInoltre a tutti i partecipanti ad almeno una cena è consentito entrare nel gruppo ristretto di Whatsapp\, sempre che\, ovviamente\, vi faccia piacere. \nLa prossima cena\, la numero 53\, si terrà a Rimini venerdì 8 febbraio e mangeremo Sushi\, per la prima volta nella nostra storia! \nSe volete partecipare commentare pure qua sotto che vi contatteremo.
URL:https://www.danireef.com/event/magnaromagna-n-53-a-rimini-cena-con-acquario/
LOCATION:Sushi King\, Sushi King\, Rimini
CATEGORIES:Incontri
ATTACH;FMTTYPE=image/jpeg:https://www.danireef.com/wp-content/uploads/2018/05/magnaromagna-2018-52-tin-bota.jpg
ORGANIZER;CN="DaniReef":MAILTO:info@danireef.com
END:VEVENT
BEGIN:VEVENT
DTSTART;TZID=Europe/Paris:20171110T200000
DTEND;TZID=Europe/Paris:20171110T233000
DTSTAMP:20260420T221448
CREATED:20171104T103611Z
LAST-MODIFIED:20171104T104421Z
UID:32394-1510344000-1510356600@www.danireef.com
SUMMARY:MagnaRomagna n. 51 a Rimini
DESCRIPTION:Torna la più longeva manifestazione acquariofilia d’Italia. Il MagnaRomagna n. 51 torna venerdì 10 novembre a Rimini. La cena degli acquariofili della Romagna e non solo! \nIl MagnaRomagna\, ovvero la cena degli acquariofili che parte dalla Romagna\, torna con il suo 51esimo incontro. Chi l’avrebbe detto nel lontano 2007 che saremmo arrivati così lontano. Certo i ritmi degli incontri non sono quelli dei primi tempi. Ma riusciamo ancora a vederci piuttosto spesso. \nIl momento è ovviamente propizio per parlare di acquari\, delle proprie vasche nonché per vedersi tutti assieme. Inoltre questo incontro avverrà la settimana prima che io\, Maurizio (Zanna Bianca) ed Agnese partiremo per andare al CIPS a Shanghai (articolo)\, per cui si parlerà anche di quello. \nL’acquariofila più giovane della storia\nL’idea è quella di vedersi nel solito ristorante del MagnaRomagna\, ma abbiamo tempo da qui alla prossima settimana per definire un eventuale altro ristorante.  La richiesta è che sia vicino a Rimini perché dovremmo ospitare la più giovane partecipante ad un MagnaRomagna\, Giada\, di poco più di tre mesi\, ma già acquariofila dentro come possono confermarci papà Jonathan e mamma Gloria. \nPer ora quindi vi lascio il link del locale Zodiaco ed a seguire quello che ne pensano i frequentatori del noto portale TripAdvisor: Ristorante Lo Zodiaco \nDato che\, diversamente dal solito\, diamo l’annuncio con oltre una settimana di anticipo\, speriamo che ci siano tanti nuovi acquariofili che si possano unire a noi. E che qualcuno anche da lontano si riesca ad organizzare. \n \nL’incontro è fissato a partire dalle ore 20:00\, per un aperitivo assieme. Per ritardi o richieste particolari basta contattarmi per mettersi d’accordo per piccole o grandi variazioni! \nVi aspettiamo quindi numerosi\, iscrivetevi qua sotto o contattatemi per permettermi di prenotare il giusto numero di posti! \nCome sempre potete leggere nella pagina dedicata al MagnaRomagna tutte le statistiche di questa simpatica iniziativa.
URL:https://www.danireef.com/event/magnaromagna-n-51-rimini/
LOCATION:Ristorante Zodiaco\, Viale Regina Margherita 159\, Rimini\, Italia
CATEGORIES:Incontri
ATTACH;FMTTYPE=image/jpeg:https://www.danireef.com/wp-content/uploads/2017/05/201705-andrea-negusanti-Andrea-Rossetti-Danilo-Davide-Cecchini-Fabio-Forti-Isabella-Leticia-Lorenzo-Pozzi-magnaromagna-Michele-Benini-Roberta-simo-25-Copyright-by-DaniReef.jpg
ORGANIZER;CN="DaniReef":MAILTO:info@danireef.com
END:VEVENT
END:VCALENDAR