BEGIN:VCALENDAR
VERSION:2.0
PRODID:-//DaniReef - Portale dedicato a Acquario Marino e Dolce - ECPv6.15.20//NONSGML v1.0//EN
CALSCALE:GREGORIAN
METHOD:PUBLISH
X-ORIGINAL-URL:https://www.danireef.com
X-WR-CALDESC:Eventi per DaniReef - Portale dedicato a Acquario Marino e Dolce
REFRESH-INTERVAL;VALUE=DURATION:PT1H
X-Robots-Tag:noindex
X-PUBLISHED-TTL:PT1H
BEGIN:VTIMEZONE
TZID:Europe/Paris
BEGIN:DAYLIGHT
TZOFFSETFROM:+0100
TZOFFSETTO:+0200
TZNAME:CEST
DTSTART:20160327T010000
END:DAYLIGHT
BEGIN:STANDARD
TZOFFSETFROM:+0200
TZOFFSETTO:+0100
TZNAME:CET
DTSTART:20161030T010000
END:STANDARD
BEGIN:DAYLIGHT
TZOFFSETFROM:+0100
TZOFFSETTO:+0200
TZNAME:CEST
DTSTART:20170326T010000
END:DAYLIGHT
BEGIN:STANDARD
TZOFFSETFROM:+0200
TZOFFSETTO:+0100
TZNAME:CET
DTSTART:20171029T010000
END:STANDARD
BEGIN:DAYLIGHT
TZOFFSETFROM:+0100
TZOFFSETTO:+0200
TZNAME:CEST
DTSTART:20180325T010000
END:DAYLIGHT
BEGIN:STANDARD
TZOFFSETFROM:+0200
TZOFFSETTO:+0100
TZNAME:CET
DTSTART:20181028T010000
END:STANDARD
BEGIN:DAYLIGHT
TZOFFSETFROM:+0100
TZOFFSETTO:+0200
TZNAME:CEST
DTSTART:20190331T010000
END:DAYLIGHT
BEGIN:STANDARD
TZOFFSETFROM:+0200
TZOFFSETTO:+0100
TZNAME:CET
DTSTART:20191027T010000
END:STANDARD
BEGIN:DAYLIGHT
TZOFFSETFROM:+0100
TZOFFSETTO:+0200
TZNAME:CEST
DTSTART:20200329T010000
END:DAYLIGHT
BEGIN:STANDARD
TZOFFSETFROM:+0200
TZOFFSETTO:+0100
TZNAME:CET
DTSTART:20201025T010000
END:STANDARD
END:VTIMEZONE
BEGIN:VEVENT
DTSTART;TZID=Europe/Paris:20191019T153000
DTEND;TZID=Europe/Paris:20191019T170000
DTSTAMP:20260420T101449
CREATED:20191018T212838Z
LAST-MODIFIED:20191018T213005Z
UID:41843-1571499000-1571504400@www.danireef.com
SUMMARY:Aquascaping Workshop Live - Garden Vicenza Verde
DESCRIPTION:Evento dedicato all’allestimento di un acquario d’acqua dolce\, presso il GARDEN VICENZA VERDE\, in Strada di Saviabona\, 72 – 36100 Vicenza (VI). \nUn’occasione perfetta per parlare con chi gestisce acquari da decenni e per togliersi qualche curiosità. \nCon la presenza di TWINSTAR per illustrare gli effetti benefici di un’equilibrata illuminazione sulle piante.\nMentre OCEANLIFE vi darà le dritte per l’avvio ed il mantenimento della vegetazione.\nTROPICAL PLANTS sponsor.\nAQUASCAPING a cura del bravissimo Simone Castagnoli. \n— \nQuota di iscrizione di € 5\, che sarà valida come buono acquisto.\nChiedici tutti i dettagli scrivendoci su Messenger. \nPer tutte le info non esistate a contattarci allo 0444 30 53 39 o scrivici a info@vicenzaverde.it
URL:https://www.danireef.com/event/aquascaping-workshop-live-garden-vicenza-verde/
LOCATION:Garden Vicenza Verde\, Garden Vicenza Verde
CATEGORIES:Workshop
ATTACH;FMTTYPE=image/png:https://www.danireef.com/wp-content/uploads/2019/10/Aquascaping-Workshop-Live.png
END:VEVENT
BEGIN:VEVENT
DTSTART;TZID=Europe/Paris:20190524T080000
DTEND;TZID=Europe/Paris:20190524T170000
DTSTAMP:20260420T101449
CREATED:20190414T140223Z
LAST-MODIFIED:20190414T140458Z
UID:40203-1558684800-1558717200@www.danireef.com
SUMMARY:Aquascaping Workshop - Acquario Mediterraneo - Milano
DESCRIPTION:Evwento Acquascaping Workshop presso il punto vendita Acquario Mediterraneo a Milano. Sponsor della manifestazione AquaFlora.
URL:https://www.danireef.com/event/aquascaping-workshop-acquario-mediterraneo-milano/
LOCATION:Acquario Mediterraneo\, Via Vetta d'Italia\, 18\, Milano
CATEGORIES:Workshop
ATTACH;FMTTYPE=image/jpeg:https://www.danireef.com/wp-content/uploads/2019/04/IMG_1664.jpg
END:VEVENT
BEGIN:VEVENT
DTSTART;TZID=Europe/Paris:20190331T150000
DTEND;TZID=Europe/Paris:20190331T190000
DTSTAMP:20260420T101449
CREATED:20190315T175755Z
LAST-MODIFIED:20190315T175755Z
UID:39933-1554044400-1554058800@www.danireef.com
SUMMARY:Live Aquascaping Workshop - Super Argo - Legnago
DESCRIPTION:Live Aquascaping Workshop presso il punto vendita Super Argo a San Pietro di Legnago. \nCon Simone Castagnoli e Mirko Sacchetto. \nI Main Sponsor saranno OceanLife e GNC per l’illuminazione. \nL’evento è gratuito ed aperto a tutti. \nPer informazioni telefonate al 334 311 8940
URL:https://www.danireef.com/event/live-aquascaping-workshop-super-argo-legnago/
LOCATION:Super Argo\, Via Meucci 6\, San Pietro di Legnago
CATEGORIES:Workshop
ATTACH;FMTTYPE=image/jpeg:https://www.danireef.com/wp-content/uploads/2019/03/superargo-live-aquasacaping-workshop-31-marzo-2019.jpg
ORGANIZER;CN="Super Argo":MAILTO:info@superargo.it
END:VEVENT
BEGIN:VEVENT
DTSTART;TZID=Europe/Paris:20190330T150000
DTEND;TZID=Europe/Paris:20190330T180000
DTSTAMP:20260420T101449
CREATED:20190309T194522Z
LAST-MODIFIED:20190309T194522Z
UID:39826-1553958000-1553968800@www.danireef.com
SUMMARY:Oltre l'Acqua - allestimento live - Aquarium Style - Piacenza
DESCRIPTION:Aquarium Style centro acquari e Petstore Piacenza presenta Allestimento È’QUO /LIVE a cura di Roberto Bielli e Alberto Vigo. \nLa prenotazione non è obbligatoria ma consigliata visto che i posti sono limitati. \nSponsor dell’evento saranno: Equo\, Amtra\, Tropica
URL:https://www.danireef.com/event/oltre-lacqua-allestimento-live-aquarium-style-piacenza/
LOCATION:Aquarium Style\, Via macchiavelli 2\, Piacenza
CATEGORIES:Workshop
ATTACH;FMTTYPE=image/jpeg:https://www.danireef.com/wp-content/uploads/2019/03/workshop-live-equo-aq-style-30-marzo-2019.jpg
END:VEVENT
BEGIN:VEVENT
DTSTART;TZID=Europe/Paris:20190202T093000
DTEND;TZID=Europe/Paris:20190202T120000
DTSTAMP:20260420T101449
CREATED:20190110T085256Z
LAST-MODIFIED:20190110T085256Z
UID:39037-1549099800-1549108800@www.danireef.com
SUMMARY:Aquascaping workshop Filipe Oliveira - Resana (TV)
DESCRIPTION:Arca di Zin presenta: Workshop Aquascaping Filipe Oliveira \nProgramma:\n1- realizzazione live di un plantacquario\n2- consegna attestato di partecipazione \nAquascaper: Filipe Oliveira \nPrenotazione obbligatoria con sms a Michela 3472524304 o via email a fabio@acquarioshop.it \nIl Corso è gratuito \nAquaflora è il main sponsor del workshop di quest’evento. L’azienda nasce nel 1965 ed è leader mondiale della produzione e commercializzazione delle piante acquatiche. L’assortimento delle piante è davvero impressionante\, parte dalle classiche piante in vasetto e arriva fino alle composizioni su legno e roccia\, passando dalle piante in vitro e gli eco-ring. Le piante vengono fornite esenti di alghe\, muffe e lumache così da permettere all’acquariofilo di partire già con una marcia in più.
URL:https://www.danireef.com/event/aquascaping-workshop-filipe-oliveira-resana-tv/
LOCATION:Arca di Zin Fabio\, L'arca di zin fabio\, Via Castellana 58F\, resana\, Italia
CATEGORIES:Workshop
ATTACH;FMTTYPE=image/jpeg:https://www.danireef.com/wp-content/uploads/2019/01/filipe-oliveira-arca-di-zin-evento-2-febbraio.jpg
ORGANIZER;CN="L'Arca di Zin Fabio":MAILTO:fabio@acquarioshop.it
END:VEVENT
BEGIN:VEVENT
DTSTART;TZID=Europe/Paris:20181027T093000
DTEND;TZID=Europe/Paris:20181027T120000
DTSTAMP:20260420T101449
CREATED:20181002T102138Z
LAST-MODIFIED:20181002T102138Z
UID:37400-1540632600-1540641600@www.danireef.com
SUMMARY:Workshop Acquariologia alla portata di tutti - Resana (TV)
DESCRIPTION:
URL:https://www.danireef.com/event/workshop-acquariologia-alla-portata-di-tutti-resana-tv/
LOCATION:Arca di Zin Fabio\, L'arca di zin fabio\, Via Castellana 58F\, resana\, Italia
CATEGORIES:Workshop
ATTACH;FMTTYPE=image/jpeg:https://www.danireef.com/wp-content/uploads/2018/10/workshop-acquariologia-alla-portata-di-tutti-arca-di-zin-fabio.jpg
ORGANIZER;CN="L'Arca di Zin Fabio":MAILTO:fabio@acquarioshop.it
END:VEVENT
BEGIN:VEVENT
DTSTART;TZID=Europe/Paris:20180630T200000
DTEND;TZID=Europe/Paris:20180630T230000
DTSTAMP:20260420T101449
CREATED:20180615T105011Z
LAST-MODIFIED:20241209T150315Z
UID:35571-1530388800-1530399600@www.danireef.com
SUMMARY:Aquascaping Workshop Live Acquario Club Cesenatico
DESCRIPTION:Serata organizzata in collaborazione con le migliori aziende sul campo nella quale verrà presentata la nuova linea di fertilizzanti e integratori OceanLife.\n\nOspite sarà l’amico e grande aquascaper Samuele Gamberini con il quale verrà allestito un acquario 80x50x50 cm e altri due piccoli cubi.
URL:https://www.danireef.com/event/aquascaping-workshop-live-acquario-club-cesenatico/
LOCATION:Acquario Club Cesenatico\, Via Ciro Menotti 8\, Cesenatico\, Italia
CATEGORIES:Workshop
ATTACH;FMTTYPE=image/jpeg:https://www.danireef.com/wp-content/uploads/2018/06/aquascaping-aquario-club.jpg
ORGANIZER;CN="Acquario Club Cesenatico":MAILTO:info@acquarioclub.it
END:VEVENT
BEGIN:VEVENT
DTSTART;TZID=Europe/Paris:20180325T150000
DTEND;TZID=Europe/Paris:20180325T190000
DTSTAMP:20260420T101449
CREATED:20180319T143033Z
LAST-MODIFIED:20180319T143107Z
UID:33930-1521990000-1522004400@www.danireef.com
SUMMARY:Aquascaping Live by ITAU - Garden il Germoglio (VE)
DESCRIPTION:Domenica 25 Marzo alle ore 15:00 è previsto un imperdibile evento di Aquascaping Live a cura del Team ITAU.\nVerrà allestito l’acquario di 900 litri secondo l’arte di creazione di un vero paesaggio naturale in acqua. Uno show illustrativo e formativo a cura di Samuele Gamberini e Giuseppe Nisi. \n\nVerrà spiegato passo passo come creare questo paesaggio sommerso: dalla posa della sabbia sul fondo\, alla scelta degli elementi legni e delle rocce\, alla disposizione delle essenze vegetali secondo regole di prospettiva e composizione.\n \nL’ingresso è gratuito e non è necessaria la prenotazione.
URL:https://www.danireef.com/event/aquascaping-live-by-itau-garden-il-germoglio-ve/
LOCATION:Garden Il Germoglio\, Via Cornarotta\, 7/C\, Robegano di Salzano
CATEGORIES:Workshop
ATTACH;FMTTYPE=image/jpeg:https://www.danireef.com/wp-content/uploads/2018/03/aquascaping-live-itau-garden-il-germoglio.jpg
END:VEVENT
BEGIN:VEVENT
DTSTART;TZID=Europe/Paris:20180303T143000
DTEND;TZID=Europe/Paris:20180303T183000
DTSTAMP:20260420T101449
CREATED:20180214T182307Z
LAST-MODIFIED:20180214T182307Z
UID:33573-1520087400-1520101800@www.danireef.com
SUMMARY:Allestimento Live TropicalMania Ciriè Torino
DESCRIPTION:Sabato 3 Marzo\, presso il punto vendita Tropicalmania\, si terrà un Allestimento Live\, vi aspettiamo. \nL’evento inizierà alle ore 14\,30\, presso il punto vendita\, in Via Lanzo\, 91/b – 10073 Ciriè in provincia di Torino. \nIl Workshop\, a cura di Roberto Bielli\, ed Alessandro Mascolo sarà incentrato sull’allestimento “Nature”\, su tecniche di Aquascaping\, sull’utilizzo di materiali naturali\, sulle linee guida sull’allestimento e sui metodi di piantumazione.
URL:https://www.danireef.com/event/allestimento-live-tropicalmania-cirie-torino/
LOCATION:TropicalMania\, TropicalMania\, Ciriè
CATEGORIES:Workshop
ATTACH;FMTTYPE=image/jpeg:https://www.danireef.com/wp-content/uploads/2018/02/allestimento-live-tropicalmania-equo-3-marzo.jpg
END:VEVENT
BEGIN:VEVENT
DTSTART;TZID=Europe/Paris:20171203T150000
DTEND;TZID=Europe/Paris:20171203T180000
DTSTAMP:20260420T101449
CREATED:20171201T144954Z
LAST-MODIFIED:20171201T144954Z
UID:32604-1512313200-1512324000@www.danireef.com
SUMMARY:Plant Art Linea Blu
DESCRIPTION:Linea Blu di Marco Biancardi ospiterà un meraviglioso pomeriggio formativo con Dario Schelfi\, nel suo stand presso il Centro Commerciale Il Grifone di Bassano del Grappa.\nDalla scelta dei prodotti\, all’allestimento\, alla finitura della vasca; le sapienti mani di Dario Schelfi vi mostreranno come allestire una vasca di qualità\, il tutto con soli prodotti Elos!\nCliccate su partecipa e venite all’evento per assicurarvi uno sconto del 10% in negozio!\n \nDario Schelfi\, paesaggista acquatico e fondatore del forum Aquagarden\, in Dicembre\, ci regalerà due meravigliose giornate dedicate all’allestimento e alla manutenzione degli acquari di piante. Tutto rigorosamente con prodotti Elos!\nNon perderti l’occasione di partecipare e farti coinvolgere in due eventi unici!
URL:https://www.danireef.com/event/plant-art-linea-blu/
LOCATION:Linea Blu\, Il Grifone Shopping Center\, Bassano del Grappa
CATEGORIES:Workshop
ATTACH;FMTTYPE=image/jpeg:https://www.danireef.com/wp-content/uploads/2017/12/plant-art-by-dario-schelfi-ed-elos-workshop.jpg
END:VEVENT
BEGIN:VEVENT
DTSTART;TZID=Europe/Paris:20171202T110000
DTEND;TZID=Europe/Paris:20171202T160000
DTSTAMP:20260420T101449
CREATED:20171201T142042Z
LAST-MODIFIED:20171201T144150Z
UID:32597-1512212400-1512230400@www.danireef.com
SUMMARY:Plant Art Ocean Acquario
DESCRIPTION:Una giornata a tu per tu con Dario Schelfi\, l’allestimento di un acquario dolce con un professionista del settore.\nTutto davanti ai vostri occhi\, tutto con prodotti Elos!\nAffrettatevi\, i posti sono limitati\, solo 30!\n \nDario Schelfi\, paesaggista acquatico e fondatore del forum Aquagarden\, in Dicembre\, ci regalerà due meravigliose giornate dedicate all’allestimento e alla manutenzione degli acquari di piante. Tutto rigorosamente con prodotti Elos!\nNon perderti l’occasione di partecipare e farti coinvolgere in due eventi unici!
URL:https://www.danireef.com/event/plant-art-ocean-acquario/
LOCATION:Ocean Acquario\, Via Fratelli Cervi 2\, Preganziol
CATEGORIES:Workshop
ATTACH;FMTTYPE=image/jpeg:https://www.danireef.com/wp-content/uploads/2017/12/plant-art-by-dario-schelfi-ed-elos-workshop.jpg
END:VEVENT
BEGIN:VEVENT
DTSTART;TZID=Europe/Paris:20171118T143000
DTEND;TZID=Europe/Paris:20171118T173000
DTSTAMP:20260420T101449
CREATED:20171104T104321Z
LAST-MODIFIED:20171104T104321Z
UID:32396-1511015400-1511026200@www.danireef.com
SUMMARY:Allestimento Live presso Bardin Garden Store
DESCRIPTION:Allestimento “Nature”\, tecniche di Aquascaping\, Utilizzo di materiali naturali\, linee guida sull’allestimento e metodi di piantumazione. A cura di Roberto Bielli e Alessandro Mascolo.\n \nCORSO A NUMERO CHIUSO\n \nIl corso avrà luogo presso il Bardin Garden Store.\nQuota di partecipazione € 15\,00* da versare al momento dell’iscrizione.\n*Importante: Alla fine del corso verrà consegnato\, ad ogni partecipante\, un buono di pari importo (euro 15\,00) spendibile presso il punto vendita.
URL:https://www.danireef.com/event/allestimento-live-presso-bardin-garden-store/
LOCATION:Bardin Garden\, Via Selghere 10\, Lancenigo di Villorba
CATEGORIES:Workshop
ATTACH;FMTTYPE=image/jpeg:https://www.danireef.com/wp-content/uploads/2017/11/allestimento-live-sabato-18-novembre-bardin-garden-equo-roberto-bielli-ale-mascolo.jpg
END:VEVENT
BEGIN:VEVENT
DTSTART;TZID=Europe/Paris:20171022T100000
DTEND;TZID=Europe/Paris:20171022T190000
DTSTAMP:20260420T101449
CREATED:20170919T181247Z
LAST-MODIFIED:20170920T093712Z
UID:31586-1508666400-1508698800@www.danireef.com
SUMMARY:Allestimento dell'acquario ADA piu' grande d'Europa
DESCRIPTION:aq Design in collaborazione con ADA Aqua Design Amano\, hanno il piacere e l’onore di invitarvi all’evento di rilevanza mondiale che si svolgerà presso aq Design.\nDomenica 22 Ottobre verrà allestito l’acquario più grande d’Europa\, gestito e fertilizzato con prodotti ADA.\nL’allestimento sarà a cura del famoso Aquascaper Maestro Giuseppe Landieri.
URL:https://www.danireef.com/event/allestimento-dellacquario-ada-piu-grande-deuropa/
LOCATION:AQ Design\, via Giuseppe Capruzzi\, 2/B (angolo con Via Amendola)\, Bari\, Italia
CATEGORIES:Workshop
ATTACH;FMTTYPE=image/jpeg:https://www.danireef.com/wp-content/uploads/2017/09/allestimento-acquario-ada-piu-grande-europa.jpg
END:VEVENT
BEGIN:VEVENT
DTSTART;TZID=Europe/Paris:20171014T093000
DTEND;TZID=Europe/Paris:20171014T123000
DTSTAMP:20260420T101449
CREATED:20171004T191340Z
LAST-MODIFIED:20171004T191938Z
UID:31720-1507973400-1507984200@www.danireef.com
SUMMARY:3 Workshop Acquario Live
DESCRIPTION:Programma \n\nCome gestire al meglio il vostro acquario\nAquascaping: realizzazione live di un plantacquario\nCarenze e fertilizzazione delle piante acquatiche\nConsegna attestato di partecipazione\n\nGli Acquascapers saranno Fabio Zin ed Andrea Ongaro. L’evento è gratuito ma si richiede la prenotazione.
URL:https://www.danireef.com/event/3-workshop-acquario-live/
LOCATION:Ristorante al Cavallino\, Via Castellana 58\, Resana
CATEGORIES:Workshop
ATTACH;FMTTYPE=image/jpeg:https://www.danireef.com/wp-content/uploads/2017/10/3-workshop-acquario-live-fabio-zin-ed-andrea-ongaro.jpg
ORGANIZER;CN="L'Arca di Zin Fabio":MAILTO:fabio@acquarioshop.it
END:VEVENT
BEGIN:VEVENT
DTSTART;TZID=Europe/Paris:20170923T090000
DTEND;TZID=Europe/Paris:20170924T190000
DTSTAMP:20260420T101449
CREATED:20170912T204325Z
LAST-MODIFIED:20170912T204638Z
UID:31511-1506157200-1506279600@www.danireef.com
SUMMARY:Aquascaping workshop live at Italian Koi Show
DESCRIPTION:L’Acquario Club Cesenatico in collaborazione con ITAU – Italian Aquascapers Union organizza presso l’evento fieristico Italian koi show nella nuova location Ippodromo di Cesena vari eventi riguardanti L’acquario Naturale. \nWorkshop Live Tips and Tricks con Giuseppe Nisi\, Samuele Gamberini e Castagnoli Simone. \nSabato ore 10:00 & 16:00\nDomenica ore 10:00 & 16:00 \n23-24 settembre 2017\, Ippodromo di Cesena
URL:https://www.danireef.com/event/aquascaping-workshop-live-at-italian-koi-show/
LOCATION:Ippodromo Cesena\, Viale Antonio Gramsci 308\, Cesena
CATEGORIES:Fiera,Workshop
ATTACH;FMTTYPE=image/jpeg:https://www.danireef.com/wp-content/uploads/2017/09/workshop-live-at-italian-koi-show-ippodoromo-di-cesena-2017-danireef.jpg
END:VEVENT
BEGIN:VEVENT
DTSTART;TZID=Europe/Paris:20170430T100000
DTEND;TZID=Europe/Paris:20170430T180000
DTSTAMP:20260420T101449
CREATED:20170310T184350Z
LAST-MODIFIED:20170515T070018Z
UID:29049-1493546400-1493575200@www.danireef.com
SUMMARY:Aquascaping Workshop - Acquario Club Cesenatico
DESCRIPTION:Potete leggere il Reportage dell’evento e vedere tutte le fotografie cliccando qui: Reportage Aquascaping Acquario Club Cesenatico
URL:https://www.danireef.com/event/aquascaping-workshop-acquario-club-cesenatico/
LOCATION:Acquario Club Cesenatico\, Via Ciro Menotti 8\, Cesenatico\, Italia
CATEGORIES:Workshop
ATTACH;FMTTYPE=image/jpeg:https://www.danireef.com/wp-content/uploads/2017/03/aquascaping-workshop-live-aquario-club-itau.jpg
END:VEVENT
END:VCALENDAR