BEGIN:VCALENDAR
VERSION:2.0
PRODID:-//DaniReef - Portale dedicato a Acquario Marino e Dolce - ECPv6.15.20//NONSGML v1.0//EN
CALSCALE:GREGORIAN
METHOD:PUBLISH
X-ORIGINAL-URL:https://www.danireef.com
X-WR-CALDESC:Eventi per DaniReef - Portale dedicato a Acquario Marino e Dolce
REFRESH-INTERVAL;VALUE=DURATION:PT1H
X-Robots-Tag:noindex
X-PUBLISHED-TTL:PT1H
BEGIN:VTIMEZONE
TZID:Europe/Paris
BEGIN:DAYLIGHT
TZOFFSETFROM:+0100
TZOFFSETTO:+0200
TZNAME:CEST
DTSTART:20150329T010000
END:DAYLIGHT
BEGIN:STANDARD
TZOFFSETFROM:+0200
TZOFFSETTO:+0100
TZNAME:CET
DTSTART:20151025T010000
END:STANDARD
BEGIN:DAYLIGHT
TZOFFSETFROM:+0100
TZOFFSETTO:+0200
TZNAME:CEST
DTSTART:20160327T010000
END:DAYLIGHT
BEGIN:STANDARD
TZOFFSETFROM:+0200
TZOFFSETTO:+0100
TZNAME:CET
DTSTART:20161030T010000
END:STANDARD
BEGIN:DAYLIGHT
TZOFFSETFROM:+0100
TZOFFSETTO:+0200
TZNAME:CEST
DTSTART:20170326T010000
END:DAYLIGHT
BEGIN:STANDARD
TZOFFSETFROM:+0200
TZOFFSETTO:+0100
TZNAME:CET
DTSTART:20171029T010000
END:STANDARD
BEGIN:DAYLIGHT
TZOFFSETFROM:+0100
TZOFFSETTO:+0200
TZNAME:CEST
DTSTART:20180325T010000
END:DAYLIGHT
BEGIN:STANDARD
TZOFFSETFROM:+0200
TZOFFSETTO:+0100
TZNAME:CET
DTSTART:20181028T010000
END:STANDARD
BEGIN:DAYLIGHT
TZOFFSETFROM:+0100
TZOFFSETTO:+0200
TZNAME:CEST
DTSTART:20190331T010000
END:DAYLIGHT
BEGIN:STANDARD
TZOFFSETFROM:+0200
TZOFFSETTO:+0100
TZNAME:CET
DTSTART:20191027T010000
END:STANDARD
END:VTIMEZONE
BEGIN:VEVENT
DTSTART;TZID=Europe/Paris:20180907T090000
DTEND;TZID=Europe/Paris:20180909T170000
DTSTAMP:20260420T191147
CREATED:20171023T110711Z
LAST-MODIFIED:20171023T110711Z
UID:31959-1536310800-1536512400@www.danireef.com
SUMMARY:Macna 2018 Las Vegas
DESCRIPTION:
URL:https://www.danireef.com/event/macna-2018-las-vegas/
LOCATION:The Westgate Resort\, The Westgate Resort\, Las Vegas
CATEGORIES:Fiera
ATTACH;FMTTYPE=image/jpeg:https://www.danireef.com/wp-content/uploads/2017/10/macna-las-vegas-2018.jpg
END:VEVENT
BEGIN:VEVENT
DTSTART;TZID=Europe/Paris:20180822T093000
DTEND;TZID=Europe/Paris:20180825T183000
DTSTAMP:20260420T191147
CREATED:20180102T203237Z
LAST-MODIFIED:20180102T203237Z
UID:33135-1534930200-1535221800@www.danireef.com
SUMMARY:Aquarama 2018
DESCRIPTION:
URL:https://www.danireef.com/event/aquarama-2018/
LOCATION:Shanghai New International Expo Centre\, Shanghai New International Expo Centre\, Shanghai
CATEGORIES:Fiera
ATTACH;FMTTYPE=image/jpeg:https://www.danireef.com/wp-content/uploads/2018/01/aquarama-2018.jpg
END:VEVENT
BEGIN:VEVENT
DTSTART;TZID=Europe/Paris:20180508T090000
DTEND;TZID=Europe/Paris:20180511T180000
DTSTAMP:20260420T191147
CREATED:20171023T105818Z
LAST-MODIFIED:20180514T163209Z
UID:31954-1525770000-1526061600@www.danireef.com
SUMMARY:Interzoo 2018
DESCRIPTION:
URL:https://www.danireef.com/event/interzoo-2018/
LOCATION:Fiera di Norimberga\, Messezentrum\, Nürnberg
CATEGORIES:Fiera
ATTACH;FMTTYPE=image/jpeg:https://www.danireef.com/wp-content/uploads/2016/05/2016_05-Interzoo-Norimberga-02.jpg
END:VEVENT
BEGIN:VEVENT
DTSTART;TZID=Europe/Paris:20180407T100000
DTEND;TZID=Europe/Paris:20180408T180000
DTSTAMP:20260420T191147
CREATED:20180314T120809Z
LAST-MODIFIED:20180314T120809Z
UID:33890-1523095200-1523210400@www.danireef.com
SUMMARY:Esotika Milano - Erba
DESCRIPTION:
URL:https://www.danireef.com/event/esotika-milano-erba-2/
LOCATION:Fiera di Erba\, Viale Resegone\, Erba\, Italia
CATEGORIES:Fiera
ATTACH;FMTTYPE=image/jpeg:https://www.danireef.com/wp-content/uploads/2016/04/2016_04-esotika-expo-erba-47.jpg
END:VEVENT
BEGIN:VEVENT
DTSTART;TZID=Europe/Paris:20180323T093000
DTEND;TZID=Europe/Paris:20180325T190000
DTSTAMP:20260420T191147
CREATED:20180212T172318Z
LAST-MODIFIED:20180322T102940Z
UID:33550-1521797400-1522004400@www.danireef.com
SUMMARY:Aquarium Show 2018 - 1° fiera internazionale degli acquari e dei pesci ornamentali - Milano
DESCRIPTION:Trovate il nostro articolo di presentazione sulla fiera qui: La fiera Aquarium Show 2018 apre a Milano questo fine settimana \nAquarium è il nuovo grande appuntamento dedicato a pesci tropicali dolci e marini\, piante acquatiche e palustri\, coralli\, invertebrati\, caridine e molto altro ancora\, e si svolgerà nel prestigioso centro fieristico di Fiera Milano MiCo\, nella nuova zona commerciale Tre Torri\, con decine di espositori da tutta Italia e dall’Europa. \nAd Aquarium saranno in esposizione pesci\, attrezzature\, mangimi\, impianti e servizi per tutte le esigenze degli acquarofili professionali e appassionati\, che avranno la possibilità di acquistare mangimi\, attrezzature tecniche\, accessori e acquari di qualsiasi dimensione e di farsi assistere e consigliare dai negozi e dalle aziende espositrici. \nAquarium offre quindi la possibilità ai visitatori di essere immersi totalmente nel mondo dell’acquario\, ma offre anche ai professionisti del settore un’occasione unica per confrontarsi\, sviluppare il proprio lavoro\, conoscere le nuove tendenze e i nuovi prodotti\, e incontrare le aziende e gli altri colleghi. \nAd Aquarium saranno organizzati concorsi\, mostre e workshop ai quali il visitatore potrà assistere e partecipare direttamente presso gli stand delle aziende o in zone a loro dedicate. Importante sarà anche la presenza delle associazioni di settore\, che saranno felici di guidare i visitatori per entrare a far parte di questo fantastico mondo!
URL:https://www.danireef.com/event/aquarium-show-2018-1-fiera-internazionale-degli-acquari-dei-pesci-ornamentali/
LOCATION:Mico Milano Congressi\, Mico Milano Congressi
CATEGORIES:Fiera
ATTACH;FMTTYPE=image/jpeg:https://www.danireef.com/wp-content/uploads/2018/02/aquarium-show-2018-milano.jpg
ORGANIZER;CN="UpMarket Srl":MAILTO:info@upmarketsrl.it
END:VEVENT
BEGIN:VEVENT
DTSTART;TZID=Europe/Paris:20171202T100000
DTEND;TZID=Europe/Paris:20171203T180000
DTSTAMP:20260420T191147
CREATED:20170331T070215Z
LAST-MODIFIED:20181128T073340Z
UID:29377-1512208800-1512324000@www.danireef.com
SUMMARY:Esotika Brescia
DESCRIPTION:
URL:https://www.danireef.com/event/esotika-brescia/
LOCATION:Centro Fiera Montichiari\, Via Brescia 129\, Montichiari\, Italia
CATEGORIES:Fiera
ATTACH;FMTTYPE=image/jpeg:https://www.danireef.com/wp-content/uploads/2017/03/esotika-erba-milano-2017.jpg
END:VEVENT
BEGIN:VEVENT
DTSTART;TZID=Europe/Paris:20171116T100000
DTEND;TZID=Europe/Paris:20171119T180000
DTSTAMP:20260420T191147
CREATED:20170607T193844Z
LAST-MODIFIED:20170607T193844Z
UID:30497-1510826400-1511114400@www.danireef.com
SUMMARY:CIPS 17 - China International Pet Show
DESCRIPTION:The 21st China International Pet Show (CIPS 2017)
URL:https://www.danireef.com/event/cips-17-china-international-pet-show/
LOCATION:Shanghai\, National Exhibition and Convention Center\, Shanghai\, National Exhibition and Convention Center\, Shanghai\, Cina
CATEGORIES:Fiera
ATTACH;FMTTYPE=image/jpeg:https://www.danireef.com/wp-content/uploads/2017/06/cips2017.jpg
END:VEVENT
BEGIN:VEVENT
DTSTART;TZID=Europe/Paris:20171021T090000
DTEND;TZID=Europe/Paris:20171022T190000
DTSTAMP:20260420T191147
CREATED:20170310T204200Z
LAST-MODIFIED:20170310T204200Z
UID:29069-1508576400-1508698800@www.danireef.com
SUMMARY:PetsFestival
DESCRIPTION:
URL:https://www.danireef.com/event/petsfestival/
LOCATION:Piacenza Expo\, Piacenza Expo\, Piacenza\, Italia
CATEGORIES:Fiera
ATTACH;FMTTYPE=image/jpeg:https://www.danireef.com/wp-content/uploads/2016/11/201610-gaia-itau-vs-fact-PetsFestival-271-Copyright-by-DaniReef.jpg
END:VEVENT
BEGIN:VEVENT
DTSTART;TZID=Europe/Paris:20170923T090000
DTEND;TZID=Europe/Paris:20170924T190000
DTSTAMP:20260420T191147
CREATED:20170912T204325Z
LAST-MODIFIED:20170912T204638Z
UID:31511-1506157200-1506279600@www.danireef.com
SUMMARY:Aquascaping workshop live at Italian Koi Show
DESCRIPTION:L’Acquario Club Cesenatico in collaborazione con ITAU – Italian Aquascapers Union organizza presso l’evento fieristico Italian koi show nella nuova location Ippodromo di Cesena vari eventi riguardanti L’acquario Naturale. \nWorkshop Live Tips and Tricks con Giuseppe Nisi\, Samuele Gamberini e Castagnoli Simone. \nSabato ore 10:00 & 16:00\nDomenica ore 10:00 & 16:00 \n23-24 settembre 2017\, Ippodromo di Cesena
URL:https://www.danireef.com/event/aquascaping-workshop-live-at-italian-koi-show/
LOCATION:Ippodromo Cesena\, Viale Antonio Gramsci 308\, Cesena
CATEGORIES:Fiera,Workshop
ATTACH;FMTTYPE=image/jpeg:https://www.danireef.com/wp-content/uploads/2017/09/workshop-live-at-italian-koi-show-ippodoromo-di-cesena-2017-danireef.jpg
END:VEVENT
BEGIN:VEVENT
DTSTART;TZID=Europe/Paris:20170825T080000
DTEND;TZID=Europe/Paris:20170827T150000
DTSTAMP:20260420T191147
CREATED:20170310T202532Z
LAST-MODIFIED:20170310T202532Z
UID:29061-1503648000-1503846000@www.danireef.com
SUMMARY:Macna 2017 - New Orleans
DESCRIPTION:
URL:https://www.danireef.com/event/macna-2017-new-orleans/
LOCATION:New Orleans Ernest N. Morial Convention Center\, 900 Convention Center Blvd\, New Orleans\, LA\, 70130\, Stati Uniti
CATEGORIES:Fiera
ATTACH;FMTTYPE=image/png:https://www.danireef.com/wp-content/uploads/2017/03/macna_2017_banner.png
END:VEVENT
BEGIN:VEVENT
DTSTART;TZID=Europe/Paris:20170526T100000
DTEND;TZID=Europe/Paris:20170529T190000
DTSTAMP:20260420T191147
CREATED:20170310T193954Z
LAST-MODIFIED:20170523T161852Z
UID:29058-1495792800-1496084400@www.danireef.com
SUMMARY:Aquarama Guangzhou/Canton
DESCRIPTION:Maggiori informazioni: Aquarama 2017\, dal 26 al 29 maggio a Guangzhou (Canton) inizia fra pochi giorni \nMore informations: Aquarama 2017\, 26-29 of May in Guangzhou only a few days to go
URL:https://www.danireef.com/event/aquarama-guangzhoucanton/
LOCATION:Guangzhou Import & Export Fair Complex (PaZhou)\, 382 Yuejiang Middle Rd\, Guangzhou Shi\, Guangdong sheng\, 510310\, Cina
CATEGORIES:Fiera
ATTACH;FMTTYPE=image/jpeg:https://www.danireef.com/wp-content/uploads/2016/09/aquarama_2016_canton_guangzhou.jpg
END:VEVENT
BEGIN:VEVENT
DTSTART;TZID=Europe/Paris:20170511T090000
DTEND;TZID=Europe/Paris:20170514T170000
DTSTAMP:20260420T191147
CREATED:20170310T191355Z
LAST-MODIFIED:20170526T062736Z
UID:29055-1494493200-1494781200@www.danireef.com
SUMMARY:Zoomark Bologna
DESCRIPTION:L’articolo di presentazione della fiera lo trovate qui: Zoomark 2017 international \nQui invece trovate il nostro editoriale con tutti i link agli articoli specifici azienda per azienda: Editoriale Zoomark 2017 \nL’accesso al salone è riservato agli operatori del settore italiani e stranieri. Non è ammesso il pubblico.  \nL’accesso ai cani è consentito solo se al guinzaglio e dotati di museruola o di apposito trasportino\, eccezion fatta per i cani al servizio di persone disabili.
URL:https://www.danireef.com/event/zoomark-bologna/
LOCATION:Fiera di Bologna\, Piazza della costituzione 5\, Bologna\, Italia
CATEGORIES:Fiera
ATTACH;FMTTYPE=image/jpeg:https://www.danireef.com/wp-content/uploads/2016/02/nanoreef-zoomark-2013-hobby-acquari.jpg
END:VEVENT
BEGIN:VEVENT
DTSTART;TZID=Europe/Paris:20170506T100000
DTEND;TZID=Europe/Paris:20170507T180000
DTSTAMP:20260420T191147
CREATED:20170331T065349Z
LAST-MODIFIED:20170503T143957Z
UID:29370-1494064800-1494180000@www.danireef.com
SUMMARY:Esotika Vicenza - Annullata
DESCRIPTION:Esotika Vicenza è stata annullata
URL:https://www.danireef.com/event/esotika-vicenza/
LOCATION:Vicenza Expo\, viale della oreficieria 16\, vicenza\, Italia
CATEGORIES:Fiera
ATTACH;FMTTYPE=image/jpeg:https://www.danireef.com/wp-content/uploads/2017/03/esotika-erba-milano-2017.jpg
END:VEVENT
BEGIN:VEVENT
DTSTART;TZID=Europe/Paris:20170401T100000
DTEND;TZID=Europe/Paris:20170402T180000
DTSTAMP:20260420T191147
CREATED:20170310T190520Z
LAST-MODIFIED:20170331T074719Z
UID:29052-1491040800-1491156000@www.danireef.com
SUMMARY:Esotika Milano – Erba
DESCRIPTION:La nostra presentazione dell’evento con la lista degli espositori la trovate qui: Esotika Milano 2017
URL:https://www.danireef.com/event/esotika-milano-erba/
LOCATION:Fiera di Erba\, Viale Resegone\, Erba\, Italia
CATEGORIES:Fiera
ATTACH;FMTTYPE=image/jpeg:https://www.danireef.com/wp-content/uploads/2016/04/2016_04-esotika-expo-erba-47.jpg
END:VEVENT
BEGIN:VEVENT
DTSTART;TZID=Europe/Paris:20161022T090000
DTEND;TZID=Europe/Paris:20161023T190000
DTSTAMP:20260420T191147
CREATED:20170310T205354Z
LAST-MODIFIED:20170310T205354Z
UID:29073-1477126800-1477249200@www.danireef.com
SUMMARY:PetsFestival 2016
DESCRIPTION:Leggi il nostro editoriale del PetsFestival 2016 cliccando qui: Editoriale
URL:https://www.danireef.com/event/petsfestival-2016/
LOCATION:Piacenza Expo\, Piacenza Expo\, Piacenza\, Italia
CATEGORIES:Fiera
ATTACH;FMTTYPE=image/jpeg:https://www.danireef.com/wp-content/uploads/2016/11/201610-gaia-itau-vs-fact-PetsFestival-271-Copyright-by-DaniReef.jpg
END:VEVENT
END:VCALENDAR