BEGIN:VCALENDAR
VERSION:2.0
PRODID:-//DaniReef - Portale dedicato a Acquario Marino e Dolce - ECPv6.15.20//NONSGML v1.0//EN
CALSCALE:GREGORIAN
METHOD:PUBLISH
X-WR-CALNAME:DaniReef - Portale dedicato a Acquario Marino e Dolce
X-ORIGINAL-URL:https://www.danireef.com
X-WR-CALDESC:Eventi per DaniReef - Portale dedicato a Acquario Marino e Dolce
REFRESH-INTERVAL;VALUE=DURATION:PT1H
X-Robots-Tag:noindex
X-PUBLISHED-TTL:PT1H
BEGIN:VTIMEZONE
TZID:Europe/Paris
BEGIN:DAYLIGHT
TZOFFSETFROM:+0100
TZOFFSETTO:+0200
TZNAME:CEST
DTSTART:20240331T010000
END:DAYLIGHT
BEGIN:STANDARD
TZOFFSETFROM:+0200
TZOFFSETTO:+0100
TZNAME:CET
DTSTART:20241027T010000
END:STANDARD
BEGIN:DAYLIGHT
TZOFFSETFROM:+0100
TZOFFSETTO:+0200
TZNAME:CEST
DTSTART:20250330T010000
END:DAYLIGHT
BEGIN:STANDARD
TZOFFSETFROM:+0200
TZOFFSETTO:+0100
TZNAME:CET
DTSTART:20251026T010000
END:STANDARD
BEGIN:DAYLIGHT
TZOFFSETFROM:+0100
TZOFFSETTO:+0200
TZNAME:CEST
DTSTART:20260329T010000
END:DAYLIGHT
BEGIN:STANDARD
TZOFFSETFROM:+0200
TZOFFSETTO:+0100
TZNAME:CET
DTSTART:20261025T010000
END:STANDARD
BEGIN:DAYLIGHT
TZOFFSETFROM:+0100
TZOFFSETTO:+0200
TZNAME:CEST
DTSTART:20270328T010000
END:DAYLIGHT
BEGIN:STANDARD
TZOFFSETFROM:+0200
TZOFFSETTO:+0100
TZNAME:CET
DTSTART:20271031T010000
END:STANDARD
END:VTIMEZONE
BEGIN:VEVENT
DTSTART;TZID=Europe/Paris:20251018T100000
DTEND;TZID=Europe/Paris:20251019T190000
DTSTAMP:20260421T011806
CREATED:20250125T091532Z
LAST-MODIFIED:20250318T082325Z
UID:71367-1760781600-1760900400@www.danireef.com
SUMMARY:PetsFestival 2025 - Cremona
DESCRIPTION:Arriva alla sua dodicesima edizione il PetsFestival di Cremona\, la quinta a Cremona\, ma che potremmo anche considerarla come la quattordicesima edizione se tenessimo conto dei due eventi dell’Aqua Beach come precursori di quella manifestazione che\, spostatasi da Cesena a Piacenza ed ora a Cremona\, avrebbe assunto il nome di PetsFestival. \n\n\n\n\n\n\n\nCome sono stati gli eventi precedenti? Riviveteli assieme a noi con tutti i nostri editoriali dedicati\, sapendo poi che in ognuno di essi ci sarà un elenco di articoli specifici per ogni stand\, o perlomeno per quelli più interessanti\, e per vedere tutti i coralli che hanno sempre nobilitato le varie edizioni. \n\n\n\n\nUndicesima edizione PetsFestival 2024 a Cremona: Editoriale con video;\n\n\n\nDecima edizione PetsFestival 2023 a Cremona: Editoriale con video;\n\n\n\nNona edizione PetsFestival 2022 a Cremona: Editoriale con video;\n\n\n\nOttava edizione PetsFestival 2021 a Cremona: Editoriale;\n\n\n\nSettima edizione PetsFestival 2019 a Piacenza: Editoriale;\n\n\n\nSesta edizione PetsFestival 2018 a Piacenza: Editoriale;\n\n\n\nQuinta edizione PetsFestival 2017 a Piacenza: Editoriale;\n\n\n\nQuarta edizione PetsFestival 2016 a Piacenza: Editoriale;\n\n\n\nTerza edizione PetsFestival 2015 a Piacenza: Editoriale;\n\n\n\nSeconda edizione PetsFestival 2014 a Piacenza: Editoriale;\n\n\n\nPrima edizione PetsFestival 2013 a Piacenza: Editoriale;\n\n\n\nSeconda edizione AquaBeach 2012 a Cesena: Editoriale;\n\n\n\nPrima edizione AquaBeach 2011 a Cesena: Editoriale;
URL:https://www.danireef.com/event/petsfestival-2025-cremona/
LOCATION:Cremona Fiere\, cremona fiera
CATEGORIES:Fiera
ATTACH;FMTTYPE=image/jpeg:https://www.danireef.com/wp-content/uploads/2025/01/petsfestival-cremona-2025.jpg
END:VEVENT
BEGIN:VEVENT
DTSTART;TZID=Europe/Paris:20251108T100000
DTEND;TZID=Europe/Paris:20251109T170000
DTSTAMP:20260421T011806
CREATED:20250125T093140Z
LAST-MODIFIED:20250125T104917Z
UID:71372-1762596000-1762707600@www.danireef.com
SUMMARY:Vivarium 2025 - Rosmalen Olanda
DESCRIPTION:Quest’anno Vivarium & MACE è stato programmato per l’8 ed il 9 novembre. Anche se il banner del sito non è stato ancora aggiornato. Nella sede fissa dell’Autotron Den Bosch (Rosmalen\, tra Eindhoven e Utrecht). Con migliaia di visitatori\, quasi 200 espositori e un ricco programma di attività\, è una delle fiere europee emergenti più grandi d’Europa.. \n\n\n\n\n\n\n\nNoi abbiamo visitato le ultime due edizioni e vi lasciamo qua sotto i link per approfondire con i nostri editoriali con video\, così vi fate una idea di quanto sia spettacolare questa fiera. \n\n\n\n\nQuattordicesima edizione Vivarium 2024: editoriale con video;\n\n\n\nTredicesima edizione Vivarium 2023: editoriale con video;
URL:https://www.danireef.com/event/vivarium-2025-rosmalen-olanda/
LOCATION:Autotron\, Autotron Graafsebaan 133\, 5248 NL Rosmalen
CATEGORIES:Fiera
ATTACH;FMTTYPE=image/jpeg:https://www.danireef.com/wp-content/uploads/2024/09/vivarium-2024-rosmalen-olanda-fiera-acquari-by-danireef.jpg
END:VEVENT
BEGIN:VEVENT
DTSTART;TZID=Europe/Paris:20251113T093000
DTEND;TZID=Europe/Paris:20251116T170000
DTSTAMP:20260421T011806
CREATED:20250602T095412Z
LAST-MODIFIED:20250602T095513Z
UID:74267-1763026200-1763312400@www.danireef.com
SUMMARY:CIPS 2025 - Guangzhou
DESCRIPTION:Il China International Pet Show\, meglio conosciuto come CIPS\, torna nel 2025 con la sua 29ª edizione\, in programma dal 13 al 16 novembre presso il China Import and Export Fair Complex (Canton Fair Complex)\, a Guangzhou. \n\n\n\nIl CIPS è il più importante evento fieristico per il settore pet in tutta l’Asia\, e negli ultimi anni ha visto una crescita esponenziale in termini di partecipazione\, espositori internazionali e rilevanza anche per l’acquariofilia\, soprattutto quella marina. \n\n\n\nCon una superficie espositiva di oltre 100.000 mq\, la fiera è il punto d’incontro tra produttori asiatici e operatori commerciali da tutto il mondo: una vera e propria vetrina globale per tutto il comparto pet. \n\n\n\n📸 Le scorse edizioni raccontate da DaniReef\n\n\n\nAnche noi di DaniReef abbiamo partecipato ad una edizione passata del CIPS\, portando a casa reportage\, video e tanti contatti utili. Se volete rivivere quelle esperienze: \n\n\n\n\nCips 2017: Editoriale. Noi ci siamo stati e ve lo raccontiamo\n\n\n\n\nIn quella occasione abbiamo potuto raccontarvi da vicino le novità dal mondo orientale dell’acquariofilia\, tra reef tank d’avanguardia\, sistemi automatizzati e produttori asiatici pronti ad affacciarsi al mercato europeo. Ma non è tutto\, anche quest’anno torneremo al CIPS 2025 per vedere come e quanto sia cambiato in questi 8 anni. \n\n\n\n📌 Un evento solo per operatori\n\n\n\nRicordiamo che l’accesso al CIPS è riservato esclusivamente agli operatori di settore\, con registrazione professionale obbligatoria. Se siete rivenditori\, distributori o gestite uno store\, è un’occasione imperdibile per entrare in contatto con i principali produttori cinesi\, coreani e giapponesi. \n\n\n\nSiamo certi che anche quest’anno non mancheranno le sorprese\, e noi saremo presenti per raccontarvele in diretta attraverso i nostri articoli e video reportage. \n\n\n\n👉 Per tutte le informazioni ufficiali e l’accredito\, potete visitare il sito ufficiale della fiera: en.cipscom.com
URL:https://www.danireef.com/event/cips-2025-guangzhou/
LOCATION:China lmport and Export Fair Complex\, Guangzhou\, China\, China lmport and Export Fair Complex\, Guangzhou\, China\, Guangzhou\, China
CATEGORIES:Fiera
ATTACH;FMTTYPE=image/jpeg:https://www.danireef.com/wp-content/uploads/2025/06/CIPS-China-International-Pet-Show-Canton-novembre-2025-by-DaniReef.jpg
END:VEVENT
BEGIN:VEVENT
DTSTART;TZID=Europe/Paris:20260207T093000
DTEND;TZID=Europe/Paris:20260208T183000
DTSTAMP:20260421T011806
CREATED:20260127T200116Z
LAST-MODIFIED:20260127T200122Z
UID:81249-1770456600-1770575400@www.danireef.com
SUMMARY:Esotika Koi Show – Arezzo 2026
DESCRIPTION:Il 7 e 8 febbraio 2026\, ad Arezzo Fiere e Congressi\, va in scena l’Italian Koi Show\, evento dedicato alle carpe koi giapponesi (Nishikigoi). L’esposizione si svolge all’interno di Esotika Pet Show ed è affiancata da un concorso di bellezza koi. \n\n\n\nIn mostra esemplari selezionati\, suddivisi per varietà e classi. La valutazione è affidata a giudici internazionali BKKS (British Koi Keepers Society). Previsti premi come Grand Champion e riconoscimenti di categoria. \n\n\n\nPresenti aziende del settore koi\, laghetti e gestione dell’acqua. In programma workshop\, incontri tecnici e momenti divulgativi. \n\n\n\nEvento adatto sia ad appassionati che a pubblico generalista.
URL:https://www.danireef.com/event/esotika-koi-show-arezzo-2026/
LOCATION:Arezzo Fiere\, Arezzo Fiere
CATEGORIES:Fiera
END:VEVENT
BEGIN:VEVENT
DTSTART;TZID=Europe/Paris:20260512T090000
DTEND;TZID=Europe/Paris:20260515T180000
DTSTAMP:20260421T011806
CREATED:20250602T093617Z
LAST-MODIFIED:20250602T093623Z
UID:74264-1778576400-1778868000@www.danireef.com
SUMMARY:Interzoo 2026 – Norimberga
DESCRIPTION:In attesa dei nostri consueti articoli di approfondimento sull’Interzoo di Norimberga\, vi lasciamo i dettagli tecnici dell’edizione 2026\, che si terrà dal 12 al 15 maggio presso la Fiera di Norimberga. \n\n\n\nL’Interzoo si conferma come la più importante fiera al mondo per il settore pet\, acquariofilia inclusa\, ed è un punto di riferimento imprescindibile per aziende\, rivenditori e appassionati. Noi di DaniReef la visitiamo da anni per voi\, e ad oggi abbiamo già pubblicato oltre 370 articoli dedicati! \n\n\n\n📚 Gli eventi precedenti\n\n\n\nCuriosi di scoprire come sono state le passate edizioni? Rivivetele con noi grazie ai nostri editoriali storici\, che raccolgono articoli\, video e foto stand per stand\, con un focus speciale sui coralli e le novità più interessanti: \n\n\n\n\nEditoriale: Interzoo di Norimberga 2024\n\n\n\nEditoriale: Interzoo di Norimberga 2022\n\n\n\nL’interzoo 2020 si è tenuto solo in modalità digitale a causa del COVID\n\n\n\nEditoriale: Interzoo di Norimberga 2018\n\n\n\nEditoriale: Interzoo di Norimberga 2016\n\n\n\nEditoriale: L’Interzoo di Norimberga 2014\n\n\n\nEditoriale: L’Interzoo di Norimberga 2012\n\n\n\nEditoriale: L’Interzoo di Norimberga 2010\n\n\n\nEditoriale: L’Interzoo di Norimberga 2008\n\n\n\n\n📌 Ricordiamo che l’accesso alla fiera è riservato esclusivamente agli operatori del settore. \n\n\n\nPer consultare tutti i nostri articoli sull’Interzoo\, ordinati dal più recente al più datato\, cliccate qui:👉 La storia dell’Interzoo tramite i nostri articoli.
URL:https://www.danireef.com/event/interzoo-2026-norimberga/
LOCATION:Fiera di Norimberga\, Messezentrum\, Nürnberg
CATEGORIES:Fiera
ATTACH;FMTTYPE=image/jpeg:https://www.danireef.com/wp-content/uploads/2025/06/Interzoo-2026-norimberga-12-15-maggio-by-danireef.jpg
END:VEVENT
BEGIN:VEVENT
DTSTART;TZID=Europe/Paris:20260919T100000
DTEND;TZID=Europe/Paris:20260920T180000
DTSTAMP:20260421T011806
CREATED:20251221T192606Z
LAST-MODIFIED:20260304T202333Z
UID:80243-1789812000-1789927200@www.danireef.com
SUMMARY:AcquariaItalia 2026 - Milano
DESCRIPTION:La 2ª edizione di ACQUARIAITALIA si terrà il 19 e 20 settembre 2026 presso Malpensa Fiere\, confermandosi come la prima fiera italiana interamente dedicata al mondo dell’acquariofilia\, dolce e marina. \n\n\n\nACQUARIAITALIA nasce da appassionati per appassionati\, con l’obiettivo di creare un evento verticale e specializzato\, dedicato esclusivamente agli acquari e a tutto ciò che li rende vivi: pesci\, coralli\, aquascaping\, piante\, biotopi\, tecnica e innovazione. \n\n\n\nIn fiera sarà possibile scoprire: \n\n\n\n\nacquari di acqua dolce\, acqua marina ed acqua fredda\n\n\n\nallestimenti tematici e percorsi didattici\n\n\n\naziende italiane\, europee ma anche mondiali del settore\n\n\n\nincontri\, scambi e momenti di confronto tra appassionati e professionisti\n\n\n\n2 interi padiglioni di novità\, animali ed esperienze\n\n\n\ne tante altre novità che scopriremo nei prossimi mesi\n\n\n\n\nACQUARIAITALIA è pensata sia come punto di riferimento per acquariofili esperti\, sia come porta d’ingresso per chi si avvicina per la prima volta a questo mondo\, grazie a un approccio divulgativo\, concreto e immersivo. \n\n\n\n👉 Lunedì 21 settembre 2026 è inoltre prevista una giornata interamente dedicata al B2B\, riservata agli operatori del settore\, alle aziende e ai professionisti\, per favorire networking\, incontri commerciali e sviluppo di nuove collaborazioni. \n\n\n\nACQUARIAITALIA non è solo una fiera\, ma un luogo di incontro\, crescita e condivisione per tutta la comunità acquariofila italiana ed europea. \n\n\n\nRivivi il grande successo della prima edizione su YouTube:
URL:https://www.danireef.com/event/acquariaitalia-2026-milano/
LOCATION:Malpensa Fiere\, Via XI Settembre 16\, Busto Arsizio
CATEGORIES:Fiera
ATTACH;FMTTYPE=image/png:https://www.danireef.com/wp-content/uploads/2024/11/acquariaitalia-fiera-acquari-malpensa-fiere-26-27-aprile-2025.png
ORGANIZER;CN="DaniReef":MAILTO:info@danireef.com
END:VEVENT
BEGIN:VEVENT
DTSTART;TZID=Europe/Paris:20261017T100000
DTEND;TZID=Europe/Paris:20261018T190000
DTSTAMP:20260421T011806
CREATED:20260304T201856Z
LAST-MODIFIED:20260304T202017Z
UID:83151-1792231200-1792350000@www.danireef.com
SUMMARY:PetsFestival 2026 - Cremona
DESCRIPTION:Arriva alla sua tredicesima edizione il PetsFestival di Cremona\, la sesta a Cremona\, ma che potremmo anche considerarla come la quindicesima edizione se tenessimo conto dei due eventi dell’Aqua Beach come precursori di quella manifestazione che\, spostatasi da Cesena a Piacenza ed ora a Cremona\, avrebbe assunto il nome di PetsFestival. \n\n\n\nI reportage di tutti i PetsFestival curati dallo staff di DaniReef\n\n\n\nCome sono stati gli eventi precedenti? Riviveteli assieme a noi con tutti i nostri editoriali dedicati\, sapendo poi che in ognuno di essi ci sarà un elenco di articoli specifici per ogni stand\, o perlomeno per quelli più interessanti\, e per vedere tutti i coralli che hanno sempre nobilitato le varie edizioni.  \n\n\n\n\nDodicesima edizione PetsFestival 2024 a Cremona: Editoriale con video;\n\n\n\nUndicesima edizione PetsFestival 2024 a Cremona: Editoriale con video;\n\n\n\nDecima edizione PetsFestival 2023 a Cremona: Editoriale con video;\n\n\n\nNona edizione PetsFestival 2022 a Cremona: Editoriale con video;\n\n\n\nOttava edizione PetsFestival 2021 a Cremona: Editoriale;\n\n\n\nSettima edizione PetsFestival 2019 a Piacenza: Editoriale;\n\n\n\nSesta edizione PetsFestival 2018 a Piacenza: Editoriale;\n\n\n\nQuinta edizione PetsFestival 2017 a Piacenza: Editoriale;\n\n\n\nQuarta edizione PetsFestival 2016 a Piacenza: Editoriale;\n\n\n\nTerza edizione PetsFestival 2015 a Piacenza: Editoriale;\n\n\n\nSeconda edizione PetsFestival 2014 a Piacenza: Editoriale;\n\n\n\nPrima edizione PetsFestival 2013 a Piacenza: Editoriale;\n\n\n\nSeconda edizione AquaBeach 2012 a Cesena: Editoriale;\n\n\n\nPrima edizione AquaBeach 2011 a Cesena: Editoriale;
URL:https://www.danireef.com/event/petsfestival-2026-cremona/
LOCATION:Cremona Fiere\, cremona fiera
CATEGORIES:Fiera
ATTACH;FMTTYPE=image/jpeg:https://www.danireef.com/wp-content/uploads/2026/03/petsfestival-2026.jpg
END:VEVENT
END:VCALENDAR