BEGIN:VCALENDAR
VERSION:2.0
PRODID:-//DaniReef - Portale dedicato a Acquario Marino e Dolce - ECPv6.15.20//NONSGML v1.0//EN
CALSCALE:GREGORIAN
METHOD:PUBLISH
X-ORIGINAL-URL:https://www.danireef.com
X-WR-CALDESC:Eventi per DaniReef - Portale dedicato a Acquario Marino e Dolce
REFRESH-INTERVAL;VALUE=DURATION:PT1H
X-Robots-Tag:noindex
X-PUBLISHED-TTL:PT1H
BEGIN:VTIMEZONE
TZID:Europe/Paris
BEGIN:DAYLIGHT
TZOFFSETFROM:+0100
TZOFFSETTO:+0200
TZNAME:CEST
DTSTART:20240331T010000
END:DAYLIGHT
BEGIN:STANDARD
TZOFFSETFROM:+0200
TZOFFSETTO:+0100
TZNAME:CET
DTSTART:20241027T010000
END:STANDARD
BEGIN:DAYLIGHT
TZOFFSETFROM:+0100
TZOFFSETTO:+0200
TZNAME:CEST
DTSTART:20250330T010000
END:DAYLIGHT
BEGIN:STANDARD
TZOFFSETFROM:+0200
TZOFFSETTO:+0100
TZNAME:CET
DTSTART:20251026T010000
END:STANDARD
BEGIN:DAYLIGHT
TZOFFSETFROM:+0100
TZOFFSETTO:+0200
TZNAME:CEST
DTSTART:20260329T010000
END:DAYLIGHT
BEGIN:STANDARD
TZOFFSETFROM:+0200
TZOFFSETTO:+0100
TZNAME:CET
DTSTART:20261025T010000
END:STANDARD
END:VTIMEZONE
BEGIN:VEVENT
DTSTART;TZID=Europe/Paris:20251108T100000
DTEND;TZID=Europe/Paris:20251109T170000
DTSTAMP:20260420T191842
CREATED:20250125T093140Z
LAST-MODIFIED:20250125T104917Z
UID:71372-1762596000-1762707600@www.danireef.com
SUMMARY:Vivarium 2025 - Rosmalen Olanda
DESCRIPTION:Quest’anno Vivarium & MACE è stato programmato per l’8 ed il 9 novembre. Anche se il banner del sito non è stato ancora aggiornato. Nella sede fissa dell’Autotron Den Bosch (Rosmalen\, tra Eindhoven e Utrecht). Con migliaia di visitatori\, quasi 200 espositori e un ricco programma di attività\, è una delle fiere europee emergenti più grandi d’Europa.. \n\n\n\n\n\n\n\nNoi abbiamo visitato le ultime due edizioni e vi lasciamo qua sotto i link per approfondire con i nostri editoriali con video\, così vi fate una idea di quanto sia spettacolare questa fiera. \n\n\n\n\nQuattordicesima edizione Vivarium 2024: editoriale con video;\n\n\n\nTredicesima edizione Vivarium 2023: editoriale con video;
URL:https://www.danireef.com/event/vivarium-2025-rosmalen-olanda/
LOCATION:Autotron\, Autotron Graafsebaan 133\, 5248 NL Rosmalen
CATEGORIES:Fiera
ATTACH;FMTTYPE=image/jpeg:https://www.danireef.com/wp-content/uploads/2024/09/vivarium-2024-rosmalen-olanda-fiera-acquari-by-danireef.jpg
END:VEVENT
BEGIN:VEVENT
DTSTART;TZID=Europe/Paris:20251113T093000
DTEND;TZID=Europe/Paris:20251116T170000
DTSTAMP:20260420T191842
CREATED:20250602T095412Z
LAST-MODIFIED:20250602T095513Z
UID:74267-1763026200-1763312400@www.danireef.com
SUMMARY:CIPS 2025 - Guangzhou
DESCRIPTION:Il China International Pet Show\, meglio conosciuto come CIPS\, torna nel 2025 con la sua 29ª edizione\, in programma dal 13 al 16 novembre presso il China Import and Export Fair Complex (Canton Fair Complex)\, a Guangzhou. \n\n\n\nIl CIPS è il più importante evento fieristico per il settore pet in tutta l’Asia\, e negli ultimi anni ha visto una crescita esponenziale in termini di partecipazione\, espositori internazionali e rilevanza anche per l’acquariofilia\, soprattutto quella marina. \n\n\n\nCon una superficie espositiva di oltre 100.000 mq\, la fiera è il punto d’incontro tra produttori asiatici e operatori commerciali da tutto il mondo: una vera e propria vetrina globale per tutto il comparto pet. \n\n\n\n📸 Le scorse edizioni raccontate da DaniReef\n\n\n\nAnche noi di DaniReef abbiamo partecipato ad una edizione passata del CIPS\, portando a casa reportage\, video e tanti contatti utili. Se volete rivivere quelle esperienze: \n\n\n\n\nCips 2017: Editoriale. Noi ci siamo stati e ve lo raccontiamo\n\n\n\n\nIn quella occasione abbiamo potuto raccontarvi da vicino le novità dal mondo orientale dell’acquariofilia\, tra reef tank d’avanguardia\, sistemi automatizzati e produttori asiatici pronti ad affacciarsi al mercato europeo. Ma non è tutto\, anche quest’anno torneremo al CIPS 2025 per vedere come e quanto sia cambiato in questi 8 anni. \n\n\n\n📌 Un evento solo per operatori\n\n\n\nRicordiamo che l’accesso al CIPS è riservato esclusivamente agli operatori di settore\, con registrazione professionale obbligatoria. Se siete rivenditori\, distributori o gestite uno store\, è un’occasione imperdibile per entrare in contatto con i principali produttori cinesi\, coreani e giapponesi. \n\n\n\nSiamo certi che anche quest’anno non mancheranno le sorprese\, e noi saremo presenti per raccontarvele in diretta attraverso i nostri articoli e video reportage. \n\n\n\n👉 Per tutte le informazioni ufficiali e l’accredito\, potete visitare il sito ufficiale della fiera: en.cipscom.com
URL:https://www.danireef.com/event/cips-2025-guangzhou/
LOCATION:China lmport and Export Fair Complex\, Guangzhou\, China\, China lmport and Export Fair Complex\, Guangzhou\, China\, Guangzhou\, China
CATEGORIES:Fiera
ATTACH;FMTTYPE=image/jpeg:https://www.danireef.com/wp-content/uploads/2025/06/CIPS-China-International-Pet-Show-Canton-novembre-2025-by-DaniReef.jpg
END:VEVENT
END:VCALENDAR