BEGIN:VCALENDAR
VERSION:2.0
PRODID:-//DaniReef - Portale dedicato a Acquario Marino e Dolce - ECPv6.15.20//NONSGML v1.0//EN
CALSCALE:GREGORIAN
METHOD:PUBLISH
X-ORIGINAL-URL:https://www.danireef.com
X-WR-CALDESC:Eventi per DaniReef - Portale dedicato a Acquario Marino e Dolce
REFRESH-INTERVAL;VALUE=DURATION:PT1H
X-Robots-Tag:noindex
X-PUBLISHED-TTL:PT1H
BEGIN:VTIMEZONE
TZID:Europe/Paris
BEGIN:DAYLIGHT
TZOFFSETFROM:+0100
TZOFFSETTO:+0200
TZNAME:CEST
DTSTART:20240331T010000
END:DAYLIGHT
BEGIN:STANDARD
TZOFFSETFROM:+0200
TZOFFSETTO:+0100
TZNAME:CET
DTSTART:20241027T010000
END:STANDARD
BEGIN:DAYLIGHT
TZOFFSETFROM:+0100
TZOFFSETTO:+0200
TZNAME:CEST
DTSTART:20250330T010000
END:DAYLIGHT
BEGIN:STANDARD
TZOFFSETFROM:+0200
TZOFFSETTO:+0100
TZNAME:CET
DTSTART:20251026T010000
END:STANDARD
BEGIN:DAYLIGHT
TZOFFSETFROM:+0100
TZOFFSETTO:+0200
TZNAME:CEST
DTSTART:20260329T010000
END:DAYLIGHT
BEGIN:STANDARD
TZOFFSETFROM:+0200
TZOFFSETTO:+0100
TZNAME:CET
DTSTART:20261025T010000
END:STANDARD
END:VTIMEZONE
BEGIN:VEVENT
DTSTART;TZID=Europe/Paris:20250426T100000
DTEND;TZID=Europe/Paris:20250427T180000
DTSTAMP:20260421T095422
CREATED:20241114T145934Z
LAST-MODIFIED:20250425T215712Z
UID:69479-1745661600-1745776800@www.danireef.com
SUMMARY:AcquariaItalia 2025 - Milano
DESCRIPTION:La 1a edizione di ACQUARIAITALIA 2025 è prevista per il 26 e 27 aprile 2025 nel centro Malpensa Fiere. \n\n\n\nPerché ACQUARIAITALIA 2025? \n\n\n\nFare una fiera dedicata al solo mondo dell’Acquariofilia\, sia dolce che marina\, fatta da appassionati per appassionati. Dedicata ai coralli\, agli aquascaping\, ai pesci\, a qualsiasi organismo che possiamo inserire nei nostri acquari\, siano essi di acqua dolce\, di acqua marina\, di acqua fredda o acquari marini mediterranei. Una fiera che sia un momento di incontro per acquariofili italiani ed europei\, ed allo stesso modo un momento di scoperta per nuovi appassionati attirati dagli eventi e dagli speciali animali presenti in fiera. \n\n\n\nArticoli presenti sul portale: \n\n\n\n\nAcquariaItalia la fiera dedicata solo agli acquari – aprile 2025 Milano\n\n\n\nAcquariaItalia fiera per acquari – tutte le info a 2 settimane
URL:https://www.danireef.com/event/acquariaitalia-2025-milano/
LOCATION:Malpensa Fiere\, Via XI Settembre 16\, Busto Arsizio
CATEGORIES:Fiera
ATTACH;FMTTYPE=image/png:https://www.danireef.com/wp-content/uploads/2024/11/acquariaitalia-fiera-acquari-malpensa-fiere-26-27-aprile-2025.png
ORGANIZER;CN="DaniReef":MAILTO:info@danireef.com
END:VEVENT
END:VCALENDAR