BEGIN:VCALENDAR
VERSION:2.0
PRODID:-//DaniReef - Portale dedicato a Acquario Marino e Dolce - ECPv6.15.20//NONSGML v1.0//EN
CALSCALE:GREGORIAN
METHOD:PUBLISH
X-WR-CALNAME:DaniReef - Portale dedicato a Acquario Marino e Dolce
X-ORIGINAL-URL:https://www.danireef.com
X-WR-CALDESC:Eventi per DaniReef - Portale dedicato a Acquario Marino e Dolce
REFRESH-INTERVAL;VALUE=DURATION:PT1H
X-Robots-Tag:noindex
X-PUBLISHED-TTL:PT1H
BEGIN:VTIMEZONE
TZID:Europe/Paris
BEGIN:DAYLIGHT
TZOFFSETFROM:+0100
TZOFFSETTO:+0200
TZNAME:CEST
DTSTART:20240331T010000
END:DAYLIGHT
BEGIN:STANDARD
TZOFFSETFROM:+0200
TZOFFSETTO:+0100
TZNAME:CET
DTSTART:20241027T010000
END:STANDARD
BEGIN:DAYLIGHT
TZOFFSETFROM:+0100
TZOFFSETTO:+0200
TZNAME:CEST
DTSTART:20250330T010000
END:DAYLIGHT
BEGIN:STANDARD
TZOFFSETFROM:+0200
TZOFFSETTO:+0100
TZNAME:CET
DTSTART:20251026T010000
END:STANDARD
BEGIN:DAYLIGHT
TZOFFSETFROM:+0100
TZOFFSETTO:+0200
TZNAME:CEST
DTSTART:20260329T010000
END:DAYLIGHT
BEGIN:STANDARD
TZOFFSETFROM:+0200
TZOFFSETTO:+0100
TZNAME:CET
DTSTART:20261025T010000
END:STANDARD
END:VTIMEZONE
BEGIN:VEVENT
DTSTART;TZID=Europe/Paris:20250215T110000
DTEND;TZID=Europe/Paris:20250216T170000
DTSTAMP:20260421T122240
CREATED:20250209T133200Z
LAST-MODIFIED:20250209T133206Z
UID:71700-1739617200-1739725200@www.danireef.com
SUMMARY:ReefMania 2025 - Stoccarda
DESCRIPTION:ReefMania 2025 si terrà questo fine settimana a Stoccarda in Germania\, e sarà una fiera dedicata solo ed esclusivamente all’acquariofilia marina. \n\n\n\nReefMania è una fiera molto giovane che nasce in una città\, Stoccarda\, che può vantare due serre di coralli famose e molto ben fornite nelle proprie vicinanze\, come White Corals e Fauna Marin. La fiera è organizzata in Germania per il pubblico tedesco\, tanto che il sito esiste solo in tedesco\, e non c’è neppure la versione in inglese\, poco male\, vista la facilità di farselo tradurre dai moderni strumenti informatici\, però è una curiosità interessante.
URL:https://www.danireef.com/event/reefmania-2025-stoccarda/
LOCATION:The K – Culture and Congress Center\, Kornwestheim
CATEGORIES:Fiera
END:VEVENT
END:VCALENDAR