BEGIN:VCALENDAR
VERSION:2.0
PRODID:-//DaniReef - Portale dedicato a Acquario Marino e Dolce - ECPv6.15.20//NONSGML v1.0//EN
CALSCALE:GREGORIAN
METHOD:PUBLISH
X-WR-CALNAME:DaniReef - Portale dedicato a Acquario Marino e Dolce
X-ORIGINAL-URL:https://www.danireef.com
X-WR-CALDESC:Eventi per DaniReef - Portale dedicato a Acquario Marino e Dolce
REFRESH-INTERVAL;VALUE=DURATION:PT1H
X-Robots-Tag:noindex
X-PUBLISHED-TTL:PT1H
BEGIN:VTIMEZONE
TZID:Europe/Paris
BEGIN:DAYLIGHT
TZOFFSETFROM:+0100
TZOFFSETTO:+0200
TZNAME:CEST
DTSTART:20230326T010000
END:DAYLIGHT
BEGIN:STANDARD
TZOFFSETFROM:+0200
TZOFFSETTO:+0100
TZNAME:CET
DTSTART:20231029T010000
END:STANDARD
BEGIN:DAYLIGHT
TZOFFSETFROM:+0100
TZOFFSETTO:+0200
TZNAME:CEST
DTSTART:20240331T010000
END:DAYLIGHT
BEGIN:STANDARD
TZOFFSETFROM:+0200
TZOFFSETTO:+0100
TZNAME:CET
DTSTART:20241027T010000
END:STANDARD
BEGIN:DAYLIGHT
TZOFFSETFROM:+0100
TZOFFSETTO:+0200
TZNAME:CEST
DTSTART:20250330T010000
END:DAYLIGHT
BEGIN:STANDARD
TZOFFSETFROM:+0200
TZOFFSETTO:+0100
TZNAME:CET
DTSTART:20251026T010000
END:STANDARD
END:VTIMEZONE
BEGIN:VEVENT
DTSTART;TZID=Europe/Paris:20240830T090000
DTEND;TZID=Europe/Paris:20240901T180000
DTSTAMP:20260421T202227
CREATED:20240331T083403Z
LAST-MODIFIED:20240331T083411Z
UID:64340-1725008400-1725213600@www.danireef.com
SUMMARY:Macna 2024 Orlando - USA
DESCRIPTION:Il Macna 2024 si terrà a Orlando in Florida. Seguite questa pagina e vi proporremo tutti gli aggiornamenti relativi all’evento nei prossimi mesi.  \n\n\n\nNoi siamo già stati a 3 Macna negli Stati Uniti\, a Fort Lauderdale (Miami) sempre in Florida\, a Las Vegas in Nevada\, ed a Milwaukee in Wisconsin. Qui sotto vi lasciamo ai nostri tre editoriali: \n\n\n\n\nMacna 2022 a Milwaukee – il nostro editoriale con video\n\n\n\nCoralli anemoni e pesci del Macna 2022: fanno semplicemente spavento\n\n\n\nMacna 2018 a Las Vegas – Editoriale\, video e coralli\n\n\n\nEditoriale: Macna 2013 a Ft. Lauderdale\, FL
URL:https://www.danireef.com/event/macna-2024-orlando-usa/
LOCATION:Walt Disney World Swan and Dolphin Resort\, Walt Disney World Resort\, Florida
CATEGORIES:Fiera
ATTACH;FMTTYPE=image/jpeg:https://www.danireef.com/wp-content/uploads/2024/03/macna-2024-orlando-a-settembre-by-danireef.jpg
END:VEVENT
BEGIN:VEVENT
DTSTART;TZID=Europe/Paris:20240907T100000
DTEND;TZID=Europe/Paris:20240908T180000
DTSTAMP:20260421T202227
CREATED:20240327T160529Z
LAST-MODIFIED:20240327T160703Z
UID:64313-1725703200-1725818400@www.danireef.com
SUMMARY:ReefAPalooza 2024 a Los Angeles California
DESCRIPTION:ReefAPalooza è attualmente la formula più interessante di show incentrato sull’acquario marino che esista in Nord America\, a settembre si terrà ad Anheim\, vicino a Los Angeles in California. Noi siamo stati lo scorso anno a New York e possiamo dirvi che è un evento da non perdere assolutamente. Potendo ovviamente. \n\n\n\nPotete trovare il nostro completissimo reportage su ReefAPalooza 2023 New York sul nostro portale e su YouTube: \n\n\n\n\nReefAPalooza 2023 a New York: ci siamo stati e ve lo raccontiamo\n\n\n\nYouTube – ReefAPalooza 2023 Reportage della fiera di coralli a new york america molli duri lps sps dy danireef
URL:https://www.danireef.com/event/reefapalooza-2024-a-los-angeles-california/
CATEGORIES:Fiera
ATTACH;FMTTYPE=image/jpeg:https://www.danireef.com/wp-content/uploads/2024/03/reefapalooza-2024-california.jpg
END:VEVENT
END:VCALENDAR