BEGIN:VCALENDAR
VERSION:2.0
PRODID:-//DaniReef - Portale dedicato a Acquario Marino e Dolce - ECPv6.15.20//NONSGML v1.0//EN
CALSCALE:GREGORIAN
METHOD:PUBLISH
X-ORIGINAL-URL:https://www.danireef.com
X-WR-CALDESC:Eventi per DaniReef - Portale dedicato a Acquario Marino e Dolce
REFRESH-INTERVAL;VALUE=DURATION:PT1H
X-Robots-Tag:noindex
X-PUBLISHED-TTL:PT1H
BEGIN:VTIMEZONE
TZID:Europe/Paris
BEGIN:DAYLIGHT
TZOFFSETFROM:+0100
TZOFFSETTO:+0200
TZNAME:CEST
DTSTART:20230326T010000
END:DAYLIGHT
BEGIN:STANDARD
TZOFFSETFROM:+0200
TZOFFSETTO:+0100
TZNAME:CET
DTSTART:20231029T010000
END:STANDARD
BEGIN:DAYLIGHT
TZOFFSETFROM:+0100
TZOFFSETTO:+0200
TZNAME:CEST
DTSTART:20240331T010000
END:DAYLIGHT
BEGIN:STANDARD
TZOFFSETFROM:+0200
TZOFFSETTO:+0100
TZNAME:CET
DTSTART:20241027T010000
END:STANDARD
BEGIN:DAYLIGHT
TZOFFSETFROM:+0100
TZOFFSETTO:+0200
TZNAME:CEST
DTSTART:20250330T010000
END:DAYLIGHT
BEGIN:STANDARD
TZOFFSETFROM:+0200
TZOFFSETTO:+0100
TZNAME:CET
DTSTART:20251026T010000
END:STANDARD
END:VTIMEZONE
BEGIN:VEVENT
DTSTART;TZID=Europe/Paris:20240507T090000
DTEND;TZID=Europe/Paris:20240510T180000
DTSTAMP:20260422T030058
CREATED:20230902T122150Z
LAST-MODIFIED:20230902T122153Z
UID:61001-1715072400-1715364000@www.danireef.com
SUMMARY:Interzoo 2024 - Norimberga
DESCRIPTION:In attesa dei nostri articoli di approfondimento sull’Interzoo di Norimberga\, vi lasciamo i dettagli tecnici della fiera che si terrà il prossimo maggio a Norimberga. L’Interzoo si fregia di essere la fiera più importante del mondo dell’acquariofilia\, oltre che del pet in generale. Noi sono anni che la visitiamo per voi\, e fino ad oggi abbiamo già creato oltre 320 articoli! \n\n\n\nCome sono stati gli eventi precedenti? Riviveteli assieme a noi con tutti i nostri editoriali dedicati\, sapendo poi che in ognuno di essi ci sarà un elenco di articoli specifici per ogni stand\, o perlomeno per quelli più interessanti\, e per vedere tutti i coralli che hanno sempre nobilitato le varie edizioni. \n\n\n\n\nEditoriale: Interzoo di Norimberga 2022\n\n\n\nL’interzoo 2020 si è tenuto solo in modalità digitale a causa del COVID\n\n\n\nEditoriale: Interzoo di Norimberga 2018\n\n\n\nEditoriale: Interzoo di Norimberga 2016\n\n\n\nEditoriale: L’Interzoo di Norimberga 2014\n\n\n\nEditoriale: L’Interzoo di Norimberga 2012\n\n\n\nEditoriale: L’Interzoo di Norimberga 2010\n\n\n\nEditoriale: L’Interzoo di Norimberga 2008\n\n\n\n\nVi ricordiamo che la fiera è aperta solo per gli operatori di settore. \n\n\n\nSe poi volete consultare tutti i nostri articoli\, ordinati dal più recente al meno recente\, non vi resta che cliccare qui: La storia dell’Interzoo tramite i nostri articoli.
URL:https://www.danireef.com/event/interzoo-2024-norimberga/
LOCATION:Fiera di Norimberga\, Messezentrum\, Nürnberg
CATEGORIES:Fiera
ATTACH;FMTTYPE=image/jpeg:https://www.danireef.com/wp-content/uploads/2023/09/interzoo-2024-norimberga-by-danireef.jpg
END:VEVENT
END:VCALENDAR