BEGIN:VCALENDAR
VERSION:2.0
PRODID:-//DaniReef - Portale dedicato a Acquario Marino e Dolce - ECPv6.15.20//NONSGML v1.0//EN
CALSCALE:GREGORIAN
METHOD:PUBLISH
X-ORIGINAL-URL:https://www.danireef.com
X-WR-CALDESC:Eventi per DaniReef - Portale dedicato a Acquario Marino e Dolce
REFRESH-INTERVAL;VALUE=DURATION:PT1H
X-Robots-Tag:noindex
X-PUBLISHED-TTL:PT1H
BEGIN:VTIMEZONE
TZID:Europe/Paris
BEGIN:DAYLIGHT
TZOFFSETFROM:+0100
TZOFFSETTO:+0200
TZNAME:CEST
DTSTART:20230326T010000
END:DAYLIGHT
BEGIN:STANDARD
TZOFFSETFROM:+0200
TZOFFSETTO:+0100
TZNAME:CET
DTSTART:20231029T010000
END:STANDARD
BEGIN:DAYLIGHT
TZOFFSETFROM:+0100
TZOFFSETTO:+0200
TZNAME:CEST
DTSTART:20240331T010000
END:DAYLIGHT
BEGIN:STANDARD
TZOFFSETFROM:+0200
TZOFFSETTO:+0100
TZNAME:CET
DTSTART:20241027T010000
END:STANDARD
BEGIN:DAYLIGHT
TZOFFSETFROM:+0100
TZOFFSETTO:+0200
TZNAME:CEST
DTSTART:20250330T010000
END:DAYLIGHT
BEGIN:STANDARD
TZOFFSETFROM:+0200
TZOFFSETTO:+0100
TZNAME:CET
DTSTART:20251026T010000
END:STANDARD
END:VTIMEZONE
BEGIN:VEVENT
DTSTART;TZID=Europe/Paris:20240420T110000
DTEND;TZID=Europe/Paris:20240421T180000
DTSTAMP:20260422T042916
CREATED:20231116T070401Z
LAST-MODIFIED:20231116T070405Z
UID:62431-1713610800-1713722400@www.danireef.com
SUMMARY:ReefAPalooza Orlando 2024
DESCRIPTION:ReefAPalooza è attualmente la formula più interessante di show incentrato sull’acquario marino che esista in Nord America\, si tiene ogni anno in 4 location diverse degli Stati Uniti. Ad aprile 2024 si terrà ad Orlando in Florida. E ad Orlando c’è una delle due edizioni più belle\, per cui se dovete scegliere questo è un viaggio da mettere in calendario. \n\n\n\nTrovate il nostro reportage di ReefAPalooza New York 2023 ed il nostro splendido reportage video qui: ReefAPalooza 2023 a New York: ci siamo stati e ve lo raccontiamo. Vi consigliamo di vederlo per capire cosa sia questa incredibile e magnifica fiera.
URL:https://www.danireef.com/event/reefapalooza-orlando-2024/
LOCATION:Caribe Royal Orlando\, caribe royal orlando
CATEGORIES:Fiera
ATTACH;FMTTYPE=image/png:https://www.danireef.com/wp-content/uploads/2023/11/Screenshot-2023-09-02-alle-17.53.12.png
END:VEVENT
END:VCALENDAR