BEGIN:VCALENDAR
VERSION:2.0
PRODID:-//DaniReef - Portale dedicato a Acquario Marino e Dolce - ECPv6.15.20//NONSGML v1.0//EN
CALSCALE:GREGORIAN
METHOD:PUBLISH
X-WR-CALNAME:DaniReef - Portale dedicato a Acquario Marino e Dolce
X-ORIGINAL-URL:https://www.danireef.com
X-WR-CALDESC:Eventi per DaniReef - Portale dedicato a Acquario Marino e Dolce
REFRESH-INTERVAL;VALUE=DURATION:PT1H
X-Robots-Tag:noindex
X-PUBLISHED-TTL:PT1H
BEGIN:VTIMEZONE
TZID:Europe/Paris
BEGIN:DAYLIGHT
TZOFFSETFROM:+0100
TZOFFSETTO:+0200
TZNAME:CEST
DTSTART:20220327T010000
END:DAYLIGHT
BEGIN:STANDARD
TZOFFSETFROM:+0200
TZOFFSETTO:+0100
TZNAME:CET
DTSTART:20221030T010000
END:STANDARD
BEGIN:DAYLIGHT
TZOFFSETFROM:+0100
TZOFFSETTO:+0200
TZNAME:CEST
DTSTART:20230326T010000
END:DAYLIGHT
BEGIN:STANDARD
TZOFFSETFROM:+0200
TZOFFSETTO:+0100
TZNAME:CET
DTSTART:20231029T010000
END:STANDARD
BEGIN:DAYLIGHT
TZOFFSETFROM:+0100
TZOFFSETTO:+0200
TZNAME:CEST
DTSTART:20240331T010000
END:DAYLIGHT
BEGIN:STANDARD
TZOFFSETFROM:+0200
TZOFFSETTO:+0100
TZNAME:CET
DTSTART:20241027T010000
END:STANDARD
END:VTIMEZONE
BEGIN:VEVENT
DTSTART;TZID=Europe/Paris:20231111T093000
DTEND;TZID=Europe/Paris:20231112T183000
DTSTAMP:20260422T121000
CREATED:20231109T064257Z
LAST-MODIFIED:20231109T065518Z
UID:62370-1699695000-1699813800@www.danireef.com
SUMMARY:Esotika Pet Show – Busto Arsizio
DESCRIPTION:Salone nazionale animali esotici e da compagnia a Busto Arsizio. Noi di DaniReef ci saremo per il nostro solito editoriale!
URL:https://www.danireef.com/event/esotika-pet-show-busto-arsizio/
LOCATION:Malpensa Fiere\, Via XI Settembre 16\, Busto Arsizio
CATEGORIES:Fiera
ATTACH;FMTTYPE=image/jpeg:https://www.danireef.com/wp-content/uploads/2023/11/Esotika-busto-arsizio-2023-fiera-animanili-rettili-pesci.jpg
END:VEVENT
BEGIN:VEVENT
DTSTART;TZID=Europe/Paris:20231111T100000
DTEND;TZID=Europe/Paris:20231112T170000
DTSTAMP:20260422T121000
CREATED:20230902T161603Z
LAST-MODIFIED:20230902T161606Z
UID:61012-1699696800-1699808400@www.danireef.com
SUMMARY:Vivarium 2023 - Rosmalen Olanda
DESCRIPTION:L’anno scorso ha segnato per noi\, dopo due anni di cancellazioni dovute al COVID\, il ritorno di Vivarium. E con ciò anche il ritorno di MACE\, la Marine Aquarium Conference of Europe; l’equivalente marino di Vivarium. Nonostante la terribile interruzione di due anni\, sembrava che non fossimo mai andati via. Pertanto i nostri visitatori\, gli espositori e noi come organizzatori della fiera ripercorriamo una delle nostre migliori edizioni finora. \n\n\n\nQuest’anno Vivarium & MACE è stato programmato per l’11 e il 12 novembre. E ovviamente questo potrà avvenire solo nella nostra sede fissa: Autotron Den Bosch (Rosmalen\, tra Eindhoven e Utrecht). Con migliaia di visitatori\, quasi 200 espositori e un ricco programma di attività\, ci impegniamo a difendere il nostro titolo di più grande evento mondiale per il nostro hobby. \n\n\n\nCome prima lo facciamo supportati dalla presenza dei più grandi marchi del settore acquariofilia\, sia per acquari d’acqua dolce che marini. Inoltre i migliori negozi\, negozi online\, società e allevatori privati offriranno una varietà di espositori provenienti da tutta Europa. \n\n\n\nPer completare la tua esperienza Vivarium & MACE\, programmeremo ancora una volta un programma in entrambi i giorni ricco di conferenze\, concorsi\, workshop\, mostre\, quiz e molte altre attività. Oltre alle attività divertenti e di apprendimento per i nostri visitatori più piccoli\, il Vivarium e il MACE saranno ancora una volta una fantastica giornata (o addirittura un fine settimana) per tutta la famiglia. \n\n\n\nNon vediamo l’ora di darvi il benvenuto a Vivarium & MACE 2023!
URL:https://www.danireef.com/event/vivarium-2023-rosmalen-olanda/
LOCATION:Autotron\, Autotron Graafsebaan 133\, 5248 NL Rosmalen
CATEGORIES:Fiera
ATTACH;FMTTYPE=image/png:https://www.danireef.com/wp-content/uploads/2023/09/vivarium-olanda-fiera-acquario-e-mace-conferenze-acquario-marino-novembre-2023-by-danireef.png
END:VEVENT
END:VCALENDAR