BEGIN:VCALENDAR
VERSION:2.0
PRODID:-//DaniReef - Portale dedicato a Acquario Marino e Dolce - ECPv6.15.20//NONSGML v1.0//EN
CALSCALE:GREGORIAN
METHOD:PUBLISH
X-WR-CALNAME:DaniReef - Portale dedicato a Acquario Marino e Dolce
X-ORIGINAL-URL:https://www.danireef.com
X-WR-CALDESC:Eventi per DaniReef - Portale dedicato a Acquario Marino e Dolce
REFRESH-INTERVAL;VALUE=DURATION:PT1H
X-Robots-Tag:noindex
X-PUBLISHED-TTL:PT1H
BEGIN:VTIMEZONE
TZID:Europe/Paris
BEGIN:DAYLIGHT
TZOFFSETFROM:+0100
TZOFFSETTO:+0200
TZNAME:CEST
DTSTART:20220327T010000
END:DAYLIGHT
BEGIN:STANDARD
TZOFFSETFROM:+0200
TZOFFSETTO:+0100
TZNAME:CET
DTSTART:20221030T010000
END:STANDARD
BEGIN:DAYLIGHT
TZOFFSETFROM:+0100
TZOFFSETTO:+0200
TZNAME:CEST
DTSTART:20230326T010000
END:DAYLIGHT
BEGIN:STANDARD
TZOFFSETFROM:+0200
TZOFFSETTO:+0100
TZNAME:CET
DTSTART:20231029T010000
END:STANDARD
BEGIN:DAYLIGHT
TZOFFSETFROM:+0100
TZOFFSETTO:+0200
TZNAME:CEST
DTSTART:20240331T010000
END:DAYLIGHT
BEGIN:STANDARD
TZOFFSETFROM:+0200
TZOFFSETTO:+0100
TZNAME:CET
DTSTART:20241027T010000
END:STANDARD
END:VTIMEZONE
BEGIN:VEVENT
DTSTART;TZID=Europe/Paris:20231007T110000
DTEND;TZID=Europe/Paris:20231008T180000
DTSTAMP:20260422T134842
CREATED:20230902T160518Z
LAST-MODIFIED:20230902T160522Z
UID:61007-1696676400-1696788000@www.danireef.com
SUMMARY:ReefAPalooza Texas 2023
DESCRIPTION:ReefAPalooza è attualmente la formula più interessante di show incentrato sull’acquario marino che esista in Nord America\, a ottobre si terrà a Dallas in Texas. \n\n\n\nTrovate il nostro reportage di ReefAPalooza New York 2023 ed il nostro splendido reportage video qui: ReefAPalooza 2023 a New York: ci siamo stati e ve lo raccontiamo. Vi consigliamo di vederlo per capire cosa sia questa incredibile e magnifica fiera.
URL:https://www.danireef.com/event/reefapalooza-texas-2023/
LOCATION:Embassy Suites by Hilton Dallas Frisco\, 7600 John Q Hammons Dr\, Frisco\, Texas\, 75034\, Stati Uniti
CATEGORIES:Fiera
ATTACH;FMTTYPE=image/png:https://www.danireef.com/wp-content/uploads/2023/09/reefapalooza-texas-2023-dallas-7-8-ottobre-danireef.png
END:VEVENT
BEGIN:VEVENT
DTSTART;TZID=Europe/Paris:20231014T090000
DTEND;TZID=Europe/Paris:20231015T190000
DTSTAMP:20260422T134842
CREATED:20221125T181935Z
LAST-MODIFIED:20240224T073238Z
UID:55725-1697274000-1697396400@www.danireef.com
SUMMARY:PetsFestival 2023 - Cremona
DESCRIPTION:In attesa dei nostri articoli di approfondimento del PetsFestival di Cremona\, che è arrivato alla sua decima edizione\, la terza a Cremona\, ma che potremmo anche considerarla come la dodicesima edizione se tenessimo conto dei due eventi dell’Aqua Beach come precursori di quella manifestazione che\, spostatasi da Cesena a Piacenza ed ora a Cremona\, avrebbe assunto il nome di PetsFestival. Come il solito si configura\, come presenze di pubblico e come presenza di espositori\, la manifestazione acquariofila italiana più importante di tutto l’anno.\n\nCome sono stati gli eventi precedenti? Riviveteli assieme a noi con tutti i nostri editoriali dedicati\, sapendo poi che in ognuno di essi ci sarà un elenco di articoli specifici per ogni stand\, o perlomeno per quelli più interessanti\, e per vedere tutti i coralli che hanno sempre nobilitato le varie edizioni.\n\n 	Nona edizione PetsFestival a Cremona: Editoriale;\n 	Ottava edizione PetsFestival a Cremona: Editoriale;\n 	Settima edizione PetsFestival 2019 a Piacenza: Editoriale;\n 	Sesta edizione PetsFestival 2018 a Piacenza: Editoriale;\n 	Quinta edizione PetsFestival 2017 a Piacenza: Editoriale;\n 	Quarta edizione PetsFestival 2016 a Piacenza: Editoriale;\n 	Terza edizione PetsFestival 2015 a Piacenza: Editoriale;\n 	Seconda edizione PetsFestival 2014 a Piacenza: Editoriale;\n 	Prima edizione PetsFestival 2013 a Piacenza: Editoriale;\n 	Seconda edizione AquaBeach 2012 a Cesena: Editoriale;\n 	Prima edizione AquaBeach 2011 a Cesena: Editoriale;
URL:https://www.danireef.com/event/petsfestival-2023-cremona/
LOCATION:Cremona Fiere\, cremona fiera
CATEGORIES:Fiera
END:VEVENT
END:VCALENDAR