BEGIN:VCALENDAR
VERSION:2.0
PRODID:-//DaniReef - Portale dedicato a Acquario Marino e Dolce - ECPv6.15.20//NONSGML v1.0//EN
CALSCALE:GREGORIAN
METHOD:PUBLISH
X-WR-CALNAME:DaniReef - Portale dedicato a Acquario Marino e Dolce
X-ORIGINAL-URL:https://www.danireef.com
X-WR-CALDESC:Eventi per DaniReef - Portale dedicato a Acquario Marino e Dolce
REFRESH-INTERVAL;VALUE=DURATION:PT1H
X-Robots-Tag:noindex
X-PUBLISHED-TTL:PT1H
BEGIN:VTIMEZONE
TZID:Europe/Paris
BEGIN:DAYLIGHT
TZOFFSETFROM:+0100
TZOFFSETTO:+0200
TZNAME:CEST
DTSTART:20220327T010000
END:DAYLIGHT
BEGIN:STANDARD
TZOFFSETFROM:+0200
TZOFFSETTO:+0100
TZNAME:CET
DTSTART:20221030T010000
END:STANDARD
BEGIN:DAYLIGHT
TZOFFSETFROM:+0100
TZOFFSETTO:+0200
TZNAME:CEST
DTSTART:20230326T010000
END:DAYLIGHT
BEGIN:STANDARD
TZOFFSETFROM:+0200
TZOFFSETTO:+0100
TZNAME:CET
DTSTART:20231029T010000
END:STANDARD
BEGIN:DAYLIGHT
TZOFFSETFROM:+0100
TZOFFSETTO:+0200
TZNAME:CEST
DTSTART:20240331T010000
END:DAYLIGHT
BEGIN:STANDARD
TZOFFSETFROM:+0200
TZOFFSETTO:+0100
TZNAME:CET
DTSTART:20241027T010000
END:STANDARD
END:VTIMEZONE
BEGIN:VEVENT
DTSTART;TZID=Europe/Paris:20230623T143000
DTEND;TZID=Europe/Paris:20230625T180000
DTSTAMP:20260422T195152
CREATED:20230604T083447Z
LAST-MODIFIED:20230604T083929Z
UID:59510-1687530600-1687716000@www.danireef.com
SUMMARY:ReefAPalooza 2023 a New York
DESCRIPTION:ReefAPalooza è attualmente la formula più interessante di show incentrato sull’acquario marino che esista in Nord America\, a giugno si terrà a New York e noi ci andremo per voi! \n\n\n\nTrovate tutte le informazioni aggiornate nei seguenti articoli:  \n\n\n\n\nReefAPalooza 2023 a New York si terrà dal 24 al 25 giugno 2023… e DaniReef ci sarà
URL:https://www.danireef.com/event/reefapalooza-2023-a-new-york/
LOCATION:Meadowlands Exposition Center\, 355 Plaza Drive\, Secaucus\, New Jersey\, 07094\, Stati Uniti
CATEGORIES:Fiera
ATTACH;FMTTYPE=image/jpeg:https://www.danireef.com/wp-content/uploads/2023/05/reefapalooza-new-york-new-jersey-2023-danireef.jpg
END:VEVENT
END:VCALENDAR