BEGIN:VCALENDAR
VERSION:2.0
PRODID:-//DaniReef - Portale dedicato a Acquario Marino e Dolce - ECPv6.15.20//NONSGML v1.0//EN
CALSCALE:GREGORIAN
METHOD:PUBLISH
X-WR-CALNAME:DaniReef - Portale dedicato a Acquario Marino e Dolce
X-ORIGINAL-URL:https://www.danireef.com
X-WR-CALDESC:Eventi per DaniReef - Portale dedicato a Acquario Marino e Dolce
REFRESH-INTERVAL;VALUE=DURATION:PT1H
X-Robots-Tag:noindex
X-PUBLISHED-TTL:PT1H
BEGIN:VTIMEZONE
TZID:Europe/Paris
BEGIN:DAYLIGHT
TZOFFSETFROM:+0100
TZOFFSETTO:+0200
TZNAME:CEST
DTSTART:20210328T010000
END:DAYLIGHT
BEGIN:STANDARD
TZOFFSETFROM:+0200
TZOFFSETTO:+0100
TZNAME:CET
DTSTART:20211031T010000
END:STANDARD
BEGIN:DAYLIGHT
TZOFFSETFROM:+0100
TZOFFSETTO:+0200
TZNAME:CEST
DTSTART:20220327T010000
END:DAYLIGHT
BEGIN:STANDARD
TZOFFSETFROM:+0200
TZOFFSETTO:+0100
TZNAME:CET
DTSTART:20221030T010000
END:STANDARD
BEGIN:DAYLIGHT
TZOFFSETFROM:+0100
TZOFFSETTO:+0200
TZNAME:CEST
DTSTART:20230326T010000
END:DAYLIGHT
BEGIN:STANDARD
TZOFFSETFROM:+0200
TZOFFSETTO:+0100
TZNAME:CET
DTSTART:20231029T010000
END:STANDARD
END:VTIMEZONE
BEGIN:VEVENT
DTSTART;TZID=Europe/Paris:20220514T093000
DTEND;TZID=Europe/Paris:20220515T183000
DTSTAMP:20260423T151817
CREATED:20220507T135342Z
LAST-MODIFIED:20220507T135342Z
UID:50606-1652520600-1652639400@www.danireef.com
SUMMARY:Esotika Pet Show - Gonzaga
DESCRIPTION:Salone del laghetto ornamentale\, mostra mercato carpe Koi\, Gold Fish e tanto altro.
URL:https://www.danireef.com/event/esotika-pet-show-gonzaga/
LOCATION:Fiera Millenaria di Gonzaga\, Fiera Millenaria di Gonzaga
CATEGORIES:Fiera
ATTACH;FMTTYPE=image/jpeg:https://www.danireef.com/wp-content/uploads/2022/05/fiera-gonzaga-laghetto-ornamentale-gold-fish-carpe-koi-01.jpg
END:VEVENT
BEGIN:VEVENT
DTSTART;TZID=Europe/Paris:20220521T090000
DTEND;TZID=Europe/Paris:20220521T180000
DTSTAMP:20260423T151817
CREATED:20220316T145146Z
LAST-MODIFIED:20220316T145235Z
UID:49841-1653123600-1653156000@www.danireef.com
SUMMARY:Italian Koi Expo 2022 - Cremona
DESCRIPTION:Italian Koi Expo 2022: campionato internazionale di carpe giapponesi il 21 e 22 maggio
URL:https://www.danireef.com/event/italian-koi-expo-2022-cremona/
LOCATION:Cremona Fiere\, cremona fiera
CATEGORIES:Fiera
ATTACH;FMTTYPE=image/jpeg:https://www.danireef.com/wp-content/uploads/2022/03/iek22.jpg
END:VEVENT
BEGIN:VEVENT
DTSTART;TZID=Europe/Paris:20220524T090000
DTEND;TZID=Europe/Paris:20220527T180000
DTSTAMP:20260423T151817
CREATED:20220301T193330Z
LAST-MODIFIED:20230902T120517Z
UID:49661-1653382800-1653674400@www.danireef.com
SUMMARY:Interzoo 2022 - Norimberga
DESCRIPTION:
URL:https://www.danireef.com/event/interzoo-2022-norimberga/
LOCATION:Fiera di Norimberga\, Messezentrum\, Nürnberg
CATEGORIES:Fiera
END:VEVENT
END:VCALENDAR