BEGIN:VCALENDAR
VERSION:2.0
PRODID:-//DaniReef - Portale dedicato a Acquario Marino e Dolce - ECPv6.15.20//NONSGML v1.0//EN
CALSCALE:GREGORIAN
METHOD:PUBLISH
X-WR-CALNAME:DaniReef - Portale dedicato a Acquario Marino e Dolce
X-ORIGINAL-URL:https://www.danireef.com
X-WR-CALDESC:Eventi per DaniReef - Portale dedicato a Acquario Marino e Dolce
REFRESH-INTERVAL;VALUE=DURATION:PT1H
X-Robots-Tag:noindex
X-PUBLISHED-TTL:PT1H
BEGIN:VTIMEZONE
TZID:Europe/Paris
BEGIN:DAYLIGHT
TZOFFSETFROM:+0100
TZOFFSETTO:+0200
TZNAME:CEST
DTSTART:20180325T010000
END:DAYLIGHT
BEGIN:STANDARD
TZOFFSETFROM:+0200
TZOFFSETTO:+0100
TZNAME:CET
DTSTART:20181028T010000
END:STANDARD
BEGIN:DAYLIGHT
TZOFFSETFROM:+0100
TZOFFSETTO:+0200
TZNAME:CEST
DTSTART:20190331T010000
END:DAYLIGHT
BEGIN:STANDARD
TZOFFSETFROM:+0200
TZOFFSETTO:+0100
TZNAME:CET
DTSTART:20191027T010000
END:STANDARD
BEGIN:DAYLIGHT
TZOFFSETFROM:+0100
TZOFFSETTO:+0200
TZNAME:CEST
DTSTART:20200329T010000
END:DAYLIGHT
BEGIN:STANDARD
TZOFFSETFROM:+0200
TZOFFSETTO:+0100
TZNAME:CET
DTSTART:20201025T010000
END:STANDARD
END:VTIMEZONE
BEGIN:VEVENT
DTSTART;TZID=Europe/Paris:20191102T100000
DTEND;TZID=Europe/Paris:20191103T170000
DTSTAMP:20260425T172714
CREATED:20191029T084002Z
LAST-MODIFIED:20240907T092019Z
UID:41986-1572688800-1572800400@www.danireef.com
SUMMARY:Vivarium 2019 - Mace - Rosmalen (NL)
DESCRIPTION:Al Vivarium 2019\, all’interno di una fiera più grande che accoglie tutti gli animali\, sulla falsariga del PetsFestival (a breve il nostro editoriale)\, si terranno il Mace 2019 (Marine Aquarium Conference of Europe)\, un Discus Show\, un Caridine Show ed un Aquascaping Contest.\n\n    \n\nLa fiera si è tenuta anche lo scorso anno\, sebbene verso la fine di novembre\, quest’anno viene anticipata al week end\, con ponte\, del primo novembre. Appuntamento quindi il 2 e 3 novembre all’Autotron di Rosmalen.\n\n\nLe Conferenze Acquariofile al MACE 2019\n \n\nLe conferenze si terranno in tre posti diversi per poter concentrare più conferenze di argomenti diversi.\n\n \n\nSabato\n\n \n\nAquaflora Workhoppodium\n\n \n\n11.00 – Chris Lukhaup – Aquascaping per caridine\n13.00 – Mathijs Kuijpers – Fotografia in acquario\n14.15 – Wilfried van der Elst – Elementi comici in acquario\n15.30 – Stichting Herpetofauna – Rettili\n\n \n\nJMB Aqua Stage\n\n \n\n11.30 – Hans Kiers – Mai contro i pesci cardinali\n13.00 – Christel Kasselmann – Piante in acquario\n14.00 – Mario Jungman – Camaleonti\n15.00 – Nikki Bouwmans – La salute dei pesci\n\n \n\nDe Jong Marinelife Stage\n\n \n\n10.30 – Tanne Hof – Dalla barriera corallina all’acquario\n12.00 – Hans Werner Balling – Calcificazione ed elementi traccia\n13.30 – Tony Vargas – Labridi reef safe\n15.00 – Habib Sekha – Supplementi\, pigmentazione e crescita dei coralli\n\n \n\nDomenica\n\n \n\nAquaflora Workhoppodium\n\n \n\n11.00 – Risultati contest caridine\n12.00 – Stichting Herpetofauna – Rettili\n13.00 – Dave Chow – Live Aquascaping workshop\n15.15 – Risultati Discus championship\n16.00 – Risultati Aquaflora Aquascaping Contest\n\n \n\nJMB Aqua Stage\n\n \n\n11.30 – Mathijs Kuijpers – Fotografia\n13.00 – Nikki Bouwmans – La salute dei pesci\n14.00 – Christel Kasselmann – Piante in acquario\n15.00 – Ruben Rensink – La vita segreta dei pesci\n\n \n\nDe Jong Marinelife Stage\n\n \n\n10.30 – Luc Vogels – Luce a led e la CoralCare\n12.00 – Gerald Basleer – Malattie dei pesci\n13.30 – Joe Yaiullo – A volte sono le piccole cose\n15.00 – Bas Bovendeur – Il mantenimento dei cavallucci marini e le loro malattie\n\n \n\nI nomi sono davvero di alto livello\, e non mi sarebbe dispiaciuto potermi organizzare per andarci. Alcune sono vecchie conoscenze\, mentre altri non li conoscevo\, ma i temi proposti sono estremamente interessanti.\n\n \nGli Eventi Acquariofili a Vivarium 2019\n \n\nCome detto gli eventi\, oltre alle conferenze\, saranno tre:\n\n \n\n 	Aquascaping Contest\n 	Caridine Show\n 	Discus Show\n\n \nGli espositori del settore acquario a Vivarium 2019\n \n\nGli espositori sono molti\, fra cui anche tantissmi negozi per la vendita di coralli. Riporto qui di seguito solo i più noti\, lasciandovi a questo link per consultarli tutti.\n\n \n\n 	Aquaflora\n 	Aquaforest\n 	Aquanetta\n 	Aquarium Munster\n 	Aquatlantis\n 	Aqua Medic\n 	ATI\n 	Bassleer Biofishfood\n 	Chris Lukhaup\n 	Dennerle\n 	De Jong MarineLife\n 	Dupla\n 	EasyReefs\n 	Eheim\n 	Fauna Marin\n 	JBL\n 	Juwel\n 	Philips\n 	Ricordea Farm/Preis\n 	Roberto Knop\n 	Royal Exlusiv\n 	Sera\n 	Sicce\n 	Skimz\n 	Vertex Aquaristik\n\n \n\nI nomi sono tanti e molto interessanti…
URL:https://www.danireef.com/event/vivarium-2019-mace-rosmalen-nl/
LOCATION:Autotron\, Autotron Graafsebaan 133\, 5248 NL Rosmalen
CATEGORIES:Fiera
ATTACH;FMTTYPE=image/jpeg:https://www.danireef.com/wp-content/uploads/2019/10/fiera-vivarium-rosmalen-2-novembre-2019-mace.jpg
END:VEVENT
BEGIN:VEVENT
DTSTART;TZID=Europe/Paris:20191116T090000
DTEND;TZID=Europe/Paris:20191117T190000
DTSTAMP:20260425T172714
CREATED:20190616T094447Z
LAST-MODIFIED:20190616T094447Z
UID:40988-1573894800-1574017200@www.danireef.com
SUMMARY:Pet Expo&Show Bologna
DESCRIPTION:Una manifestazione per il pubblico dove poter trovare il modo corretto di avvicinarsi e relazionarsi con il proprio piccolo amico e dove\, per i più esperti\, acquisire conoscenze per sviluppare ulteriormente la propria passione. \nNella parte espositiva sono rappresentate tutte le categorie di animali da affezione e compagnia (cani\, gatti\, pesci\, rettili\, animali da cortile\, piccoli animali e animali della fattoria) oltre a tutti i prodotti e servizi per gli animali stessi. \nOltre alla parte espositiva\, ci sarà un ricchissimo programma di dimostrazioni\, laboratori\, incontri didattici ed eventi: dog movie casting\, dog sitting per i visitatori\, esposizione internazionale felina\, aquascaping\, goldfish show\, campionato italiano di cincillà\, fattorie didattiche e molto altro.
URL:https://www.danireef.com/event/pet-exposhow-bologna/
LOCATION:Fiera di Bologna\, Piazza della costituzione 5\, Bologna\, Italia
CATEGORIES:Fiera
ATTACH;FMTTYPE=image/gif:https://www.danireef.com/wp-content/uploads/2019/06/petexposhow2019.gif
END:VEVENT
BEGIN:VEVENT
DTSTART;TZID=Europe/Paris:20191120T090000
DTEND;TZID=Europe/Paris:20191123T170000
DTSTAMP:20260425T172714
CREATED:20190616T095518Z
LAST-MODIFIED:20190616T095518Z
UID:40992-1574240400-1574528400@www.danireef.com
SUMMARY:CIPS - China International Pet Show
DESCRIPTION:
URL:https://www.danireef.com/event/cips-china-international-pet-show/
LOCATION:Shanghai\, National Exhibition and Convention Center\, Shanghai\, National Exhibition and Convention Center\, Shanghai\, Cina
CATEGORIES:Fiera
ATTACH;FMTTYPE=image/jpeg:https://www.danireef.com/wp-content/uploads/2019/06/CIPS-2019-Cina-Shanghai.jpg
END:VEVENT
BEGIN:VEVENT
DTSTART;TZID=Europe/Paris:20191130T090000
DTEND;TZID=Europe/Paris:20191201T190000
DTSTAMP:20260425T172714
CREATED:20190616T093231Z
LAST-MODIFIED:20190616T093231Z
UID:40978-1575104400-1575226800@www.danireef.com
SUMMARY:MyFantasticPets Montichiari
DESCRIPTION:Una manifestazione per il pubblico dove poter trovare il modo corretto di avvicinarsi e relazionarsi con il proprio piccolo amico e dove\, per i più esperti\, acquisire conoscenze per sviluppare ulteriormente la propria passione. \nNella parte espositiva sono rappresentate tutte le categorie di animali da affezione e compagnia (cani\, gatti\, pesci\, rettili\, animali da cortile\, piccoli animali e animali della fattoria) oltre a tutti i prodotti e servizi per gli animali stessi. \nOltre alla parte espositiva\, ci sarà un ricchissimo programma di dimostrazioni\, laboratori\, incontri didattici ed eventi: dog movie casting\, dog sitting per i visitatori\, esposizione internazionale felina\, aquascaping\, goldfish show\, campionato italiano di cincillà\, fattorie didattiche e molto altro.
URL:https://www.danireef.com/event/myfantasticpets-montichiari/
LOCATION:Centro Fiera Montichiari\, Via Brescia 129\, Montichiari\, Italia
CATEGORIES:Fiera
ATTACH;FMTTYPE=image/gif:https://www.danireef.com/wp-content/uploads/2019/06/myfantasticpets2019202.gif
END:VEVENT
END:VCALENDAR